BEGIN:VCALENDAR
VERSION:2.0
PRODID:-//Immanuel Lutheran Church - ECPv6.15.17.1//NONSGML v1.0//EN
CALSCALE:GREGORIAN
METHOD:PUBLISH
X-WR-CALNAME:Immanuel Lutheran Church
X-ORIGINAL-URL:https://immanuellutheranbrownton.org
X-WR-CALDESC:Events for Immanuel Lutheran Church
REFRESH-INTERVAL;VALUE=DURATION:PT1H
X-Robots-Tag:noindex
X-PUBLISHED-TTL:PT1H
BEGIN:VTIMEZONE
TZID:America/Chicago
BEGIN:DAYLIGHT
TZOFFSETFROM:-0600
TZOFFSETTO:-0500
TZNAME:CDT
DTSTART:20250309T080000
END:DAYLIGHT
BEGIN:STANDARD
TZOFFSETFROM:-0500
TZOFFSETTO:-0600
TZNAME:CST
DTSTART:20251102T070000
END:STANDARD
BEGIN:DAYLIGHT
TZOFFSETFROM:-0600
TZOFFSETTO:-0500
TZNAME:CDT
DTSTART:20260308T080000
END:DAYLIGHT
BEGIN:STANDARD
TZOFFSETFROM:-0500
TZOFFSETTO:-0600
TZNAME:CST
DTSTART:20261101T070000
END:STANDARD
BEGIN:DAYLIGHT
TZOFFSETFROM:-0600
TZOFFSETTO:-0500
TZNAME:CDT
DTSTART:20270314T080000
END:DAYLIGHT
BEGIN:STANDARD
TZOFFSETFROM:-0500
TZOFFSETTO:-0600
TZNAME:CST
DTSTART:20271107T070000
END:STANDARD
BEGIN:DAYLIGHT
TZOFFSETFROM:-0600
TZOFFSETTO:-0500
TZNAME:CDT
DTSTART:20280312T080000
END:DAYLIGHT
BEGIN:STANDARD
TZOFFSETFROM:-0500
TZOFFSETTO:-0600
TZNAME:CST
DTSTART:20281105T070000
END:STANDARD
BEGIN:DAYLIGHT
TZOFFSETFROM:-0600
TZOFFSETTO:-0500
TZNAME:CDT
DTSTART:20290311T080000
END:DAYLIGHT
BEGIN:STANDARD
TZOFFSETFROM:-0500
TZOFFSETTO:-0600
TZNAME:CST
DTSTART:20291104T070000
END:STANDARD
END:VTIMEZONE
BEGIN:VEVENT
DTSTART;TZID=America/Chicago:20260505T080000
DTEND;TZID=America/Chicago:20260505T170000
DTSTAMP:20260421T060853
CREATED:20251212T164920Z
LAST-MODIFIED:20251212T164921Z
UID:10006237-1777968000-1778000400@immanuellutheranbrownton.org
SUMMARY:Grand Meadows Visits
DESCRIPTION:
URL:https://immanuellutheranbrownton.org/event/grand-meadows-visits-4/2026-05-05/
END:VEVENT
BEGIN:VEVENT
DTSTART;TZID=America/Chicago:20260602T080000
DTEND;TZID=America/Chicago:20260602T170000
DTSTAMP:20260421T060853
CREATED:20251212T164920Z
LAST-MODIFIED:20251212T164921Z
UID:10006238-1780387200-1780419600@immanuellutheranbrownton.org
SUMMARY:Grand Meadows Visits
DESCRIPTION:
URL:https://immanuellutheranbrownton.org/event/grand-meadows-visits-4/2026-06-02/
END:VEVENT
BEGIN:VEVENT
DTSTART;TZID=America/Chicago:20260707T080000
DTEND;TZID=America/Chicago:20260707T170000
DTSTAMP:20260421T060853
CREATED:20251212T164920Z
LAST-MODIFIED:20251212T164921Z
UID:10006239-1783411200-1783443600@immanuellutheranbrownton.org
SUMMARY:Grand Meadows Visits
DESCRIPTION:
URL:https://immanuellutheranbrownton.org/event/grand-meadows-visits-4/2026-07-07/
END:VEVENT
BEGIN:VEVENT
DTSTART;TZID=America/Chicago:20260804T080000
DTEND;TZID=America/Chicago:20260804T170000
DTSTAMP:20260421T060853
CREATED:20251212T164920Z
LAST-MODIFIED:20251212T164921Z
UID:10006240-1785830400-1785862800@immanuellutheranbrownton.org
SUMMARY:Grand Meadows Visits
DESCRIPTION:
URL:https://immanuellutheranbrownton.org/event/grand-meadows-visits-4/2026-08-04/
END:VEVENT
BEGIN:VEVENT
DTSTART;TZID=America/Chicago:20260901T080000
DTEND;TZID=America/Chicago:20260901T170000
DTSTAMP:20260421T060853
CREATED:20251212T164920Z
LAST-MODIFIED:20251212T164921Z
UID:10006241-1788249600-1788282000@immanuellutheranbrownton.org
SUMMARY:Grand Meadows Visits
DESCRIPTION:
URL:https://immanuellutheranbrownton.org/event/grand-meadows-visits-4/2026-09-01/
END:VEVENT
BEGIN:VEVENT
DTSTART;TZID=America/Chicago:20261006T080000
DTEND;TZID=America/Chicago:20261006T170000
DTSTAMP:20260421T060853
CREATED:20251212T164920Z
LAST-MODIFIED:20251212T164921Z
UID:10006242-1791273600-1791306000@immanuellutheranbrownton.org
SUMMARY:Grand Meadows Visits
DESCRIPTION:
URL:https://immanuellutheranbrownton.org/event/grand-meadows-visits-4/2026-10-06/
END:VEVENT
BEGIN:VEVENT
DTSTART;TZID=America/Chicago:20261103T080000
DTEND;TZID=America/Chicago:20261103T170000
DTSTAMP:20260421T060853
CREATED:20251212T164920Z
LAST-MODIFIED:20251212T164921Z
UID:10006243-1793692800-1793725200@immanuellutheranbrownton.org
SUMMARY:Grand Meadows Visits
DESCRIPTION:
URL:https://immanuellutheranbrownton.org/event/grand-meadows-visits-4/2026-11-03/
END:VEVENT
BEGIN:VEVENT
DTSTART;TZID=America/Chicago:20261201T080000
DTEND;TZID=America/Chicago:20261201T170000
DTSTAMP:20260421T060853
CREATED:20251212T164920Z
LAST-MODIFIED:20251212T164921Z
UID:10006244-1796112000-1796144400@immanuellutheranbrownton.org
SUMMARY:Grand Meadows Visits
DESCRIPTION:
URL:https://immanuellutheranbrownton.org/event/grand-meadows-visits-4/2026-12-01/
END:VEVENT
BEGIN:VEVENT
DTSTART;TZID=America/Chicago:20270105T080000
DTEND;TZID=America/Chicago:20270105T170000
DTSTAMP:20260421T060853
CREATED:20251212T164920Z
LAST-MODIFIED:20251212T164921Z
UID:10006245-1799136000-1799168400@immanuellutheranbrownton.org
SUMMARY:Grand Meadows Visits
DESCRIPTION:
URL:https://immanuellutheranbrownton.org/event/grand-meadows-visits-4/2027-01-05/
END:VEVENT
BEGIN:VEVENT
DTSTART;TZID=America/Chicago:20270202T080000
DTEND;TZID=America/Chicago:20270202T170000
DTSTAMP:20260421T060853
CREATED:20251212T164920Z
LAST-MODIFIED:20251212T164921Z
UID:10006246-1801555200-1801587600@immanuellutheranbrownton.org
SUMMARY:Grand Meadows Visits
DESCRIPTION:
URL:https://immanuellutheranbrownton.org/event/grand-meadows-visits-4/2027-02-02/
END:VEVENT
BEGIN:VEVENT
DTSTART;TZID=America/Chicago:20270302T080000
DTEND;TZID=America/Chicago:20270302T170000
DTSTAMP:20260421T060853
CREATED:20251212T164920Z
LAST-MODIFIED:20251212T164921Z
UID:10006247-1803974400-1804006800@immanuellutheranbrownton.org
SUMMARY:Grand Meadows Visits
DESCRIPTION:
URL:https://immanuellutheranbrownton.org/event/grand-meadows-visits-4/2027-03-02/
END:VEVENT
BEGIN:VEVENT
DTSTART;TZID=America/Chicago:20270406T080000
DTEND;TZID=America/Chicago:20270406T170000
DTSTAMP:20260421T060853
CREATED:20251212T164920Z
LAST-MODIFIED:20251212T164921Z
UID:10006248-1806998400-1807030800@immanuellutheranbrownton.org
SUMMARY:Grand Meadows Visits
DESCRIPTION:
URL:https://immanuellutheranbrownton.org/event/grand-meadows-visits-4/2027-04-06/
END:VEVENT
BEGIN:VEVENT
DTSTART;TZID=America/Chicago:20270504T080000
DTEND;TZID=America/Chicago:20270504T170000
DTSTAMP:20260421T060853
CREATED:20251212T164920Z
LAST-MODIFIED:20251212T164921Z
UID:10006249-1809417600-1809450000@immanuellutheranbrownton.org
SUMMARY:Grand Meadows Visits
DESCRIPTION:
URL:https://immanuellutheranbrownton.org/event/grand-meadows-visits-4/2027-05-04/
END:VEVENT
BEGIN:VEVENT
DTSTART;TZID=America/Chicago:20270601T080000
DTEND;TZID=America/Chicago:20270601T170000
DTSTAMP:20260421T060853
CREATED:20251212T164920Z
LAST-MODIFIED:20251212T164921Z
UID:10006250-1811836800-1811869200@immanuellutheranbrownton.org
SUMMARY:Grand Meadows Visits
DESCRIPTION:
URL:https://immanuellutheranbrownton.org/event/grand-meadows-visits-4/2027-06-01/
END:VEVENT
BEGIN:VEVENT
DTSTART;TZID=America/Chicago:20270706T080000
DTEND;TZID=America/Chicago:20270706T170000
DTSTAMP:20260421T060853
CREATED:20251212T164920Z
LAST-MODIFIED:20251212T164921Z
UID:10006251-1814860800-1814893200@immanuellutheranbrownton.org
SUMMARY:Grand Meadows Visits
DESCRIPTION:
URL:https://immanuellutheranbrownton.org/event/grand-meadows-visits-4/2027-07-06/
END:VEVENT
BEGIN:VEVENT
DTSTART;TZID=America/Chicago:20270803T080000
DTEND;TZID=America/Chicago:20270803T170000
DTSTAMP:20260421T060853
CREATED:20251212T164920Z
LAST-MODIFIED:20251212T164921Z
UID:10006252-1817280000-1817312400@immanuellutheranbrownton.org
SUMMARY:Grand Meadows Visits
DESCRIPTION:
URL:https://immanuellutheranbrownton.org/event/grand-meadows-visits-4/2027-08-03/
END:VEVENT
BEGIN:VEVENT
DTSTART;TZID=America/Chicago:20270907T080000
DTEND;TZID=America/Chicago:20270907T170000
DTSTAMP:20260421T060853
CREATED:20251212T164920Z
LAST-MODIFIED:20251212T164921Z
UID:10006253-1820304000-1820336400@immanuellutheranbrownton.org
SUMMARY:Grand Meadows Visits
DESCRIPTION:
URL:https://immanuellutheranbrownton.org/event/grand-meadows-visits-4/2027-09-07/
END:VEVENT
BEGIN:VEVENT
DTSTART;TZID=America/Chicago:20271005T080000
DTEND;TZID=America/Chicago:20271005T170000
DTSTAMP:20260421T060853
CREATED:20251212T164920Z
LAST-MODIFIED:20251212T164921Z
UID:10006254-1822723200-1822755600@immanuellutheranbrownton.org
SUMMARY:Grand Meadows Visits
DESCRIPTION:
URL:https://immanuellutheranbrownton.org/event/grand-meadows-visits-4/2027-10-05/
END:VEVENT
BEGIN:VEVENT
DTSTART;TZID=America/Chicago:20271102T080000
DTEND;TZID=America/Chicago:20271102T170000
DTSTAMP:20260421T060853
CREATED:20251212T164920Z
LAST-MODIFIED:20251212T164921Z
UID:10006255-1825142400-1825174800@immanuellutheranbrownton.org
SUMMARY:Grand Meadows Visits
DESCRIPTION:
URL:https://immanuellutheranbrownton.org/event/grand-meadows-visits-4/2027-11-02/
END:VEVENT
BEGIN:VEVENT
DTSTART;TZID=America/Chicago:20271207T080000
DTEND;TZID=America/Chicago:20271207T170000
DTSTAMP:20260421T060853
CREATED:20251212T164920Z
LAST-MODIFIED:20251212T164921Z
UID:10006256-1828166400-1828198800@immanuellutheranbrownton.org
SUMMARY:Grand Meadows Visits
DESCRIPTION:
URL:https://immanuellutheranbrownton.org/event/grand-meadows-visits-4/2027-12-07/
END:VEVENT
BEGIN:VEVENT
DTSTART;TZID=America/Chicago:20280104T080000
DTEND;TZID=America/Chicago:20280104T170000
DTSTAMP:20260421T060853
CREATED:20251212T164920Z
LAST-MODIFIED:20251212T164921Z
UID:10006257-1830585600-1830618000@immanuellutheranbrownton.org
SUMMARY:Grand Meadows Visits
DESCRIPTION:
URL:https://immanuellutheranbrownton.org/event/grand-meadows-visits-4/2028-01-04/
END:VEVENT
BEGIN:VEVENT
DTSTART;TZID=America/Chicago:20280201T080000
DTEND;TZID=America/Chicago:20280201T170000
DTSTAMP:20260421T060853
CREATED:20251212T164920Z
LAST-MODIFIED:20251212T164921Z
UID:10006258-1833004800-1833037200@immanuellutheranbrownton.org
SUMMARY:Grand Meadows Visits
DESCRIPTION:
URL:https://immanuellutheranbrownton.org/event/grand-meadows-visits-4/2028-02-01/
END:VEVENT
BEGIN:VEVENT
DTSTART;TZID=America/Chicago:20280307T080000
DTEND;TZID=America/Chicago:20280307T170000
DTSTAMP:20260421T060853
CREATED:20251212T164920Z
LAST-MODIFIED:20251212T164921Z
UID:10006259-1836028800-1836061200@immanuellutheranbrownton.org
SUMMARY:Grand Meadows Visits
DESCRIPTION:
URL:https://immanuellutheranbrownton.org/event/grand-meadows-visits-4/2028-03-07/
END:VEVENT
BEGIN:VEVENT
DTSTART;TZID=America/Chicago:20280404T080000
DTEND;TZID=America/Chicago:20280404T170000
DTSTAMP:20260421T060853
CREATED:20251212T164920Z
LAST-MODIFIED:20251212T164921Z
UID:10006260-1838448000-1838480400@immanuellutheranbrownton.org
SUMMARY:Grand Meadows Visits
DESCRIPTION:
URL:https://immanuellutheranbrownton.org/event/grand-meadows-visits-4/2028-04-04/
END:VEVENT
BEGIN:VEVENT
DTSTART;TZID=America/Chicago:20280502T080000
DTEND;TZID=America/Chicago:20280502T170000
DTSTAMP:20260421T060853
CREATED:20251212T164920Z
LAST-MODIFIED:20251212T164921Z
UID:10006261-1840867200-1840899600@immanuellutheranbrownton.org
SUMMARY:Grand Meadows Visits
DESCRIPTION:
URL:https://immanuellutheranbrownton.org/event/grand-meadows-visits-4/2028-05-02/
END:VEVENT
BEGIN:VEVENT
DTSTART;TZID=America/Chicago:20280606T080000
DTEND;TZID=America/Chicago:20280606T170000
DTSTAMP:20260421T060853
CREATED:20251212T164920Z
LAST-MODIFIED:20251212T164921Z
UID:10006262-1843891200-1843923600@immanuellutheranbrownton.org
SUMMARY:Grand Meadows Visits
DESCRIPTION:
URL:https://immanuellutheranbrownton.org/event/grand-meadows-visits-4/2028-06-06/
END:VEVENT
BEGIN:VEVENT
DTSTART;TZID=America/Chicago:20280704T080000
DTEND;TZID=America/Chicago:20280704T170000
DTSTAMP:20260421T060853
CREATED:20251212T164920Z
LAST-MODIFIED:20251212T164921Z
UID:10006263-1846310400-1846342800@immanuellutheranbrownton.org
SUMMARY:Grand Meadows Visits
DESCRIPTION:
URL:https://immanuellutheranbrownton.org/event/grand-meadows-visits-4/2028-07-04/
END:VEVENT
BEGIN:VEVENT
DTSTART;TZID=America/Chicago:20280801T080000
DTEND;TZID=America/Chicago:20280801T170000
DTSTAMP:20260421T060853
CREATED:20251212T164920Z
LAST-MODIFIED:20251212T164921Z
UID:10006264-1848729600-1848762000@immanuellutheranbrownton.org
SUMMARY:Grand Meadows Visits
DESCRIPTION:
URL:https://immanuellutheranbrownton.org/event/grand-meadows-visits-4/2028-08-01/
END:VEVENT
BEGIN:VEVENT
DTSTART;TZID=America/Chicago:20280905T080000
DTEND;TZID=America/Chicago:20280905T170000
DTSTAMP:20260421T060853
CREATED:20251212T164920Z
LAST-MODIFIED:20251212T164921Z
UID:10006265-1851753600-1851786000@immanuellutheranbrownton.org
SUMMARY:Grand Meadows Visits
DESCRIPTION:
URL:https://immanuellutheranbrownton.org/event/grand-meadows-visits-4/2028-09-05/
END:VEVENT
BEGIN:VEVENT
DTSTART;TZID=America/Chicago:20281003T080000
DTEND;TZID=America/Chicago:20281003T170000
DTSTAMP:20260421T060853
CREATED:20251212T164920Z
LAST-MODIFIED:20251212T164921Z
UID:10006266-1854172800-1854205200@immanuellutheranbrownton.org
SUMMARY:Grand Meadows Visits
DESCRIPTION:
URL:https://immanuellutheranbrownton.org/event/grand-meadows-visits-4/2028-10-03/
END:VEVENT
END:VCALENDAR