BEGIN:VCALENDAR
VERSION:2.0
PRODID:-//Immanuel Lutheran Church - ECPv6.15.17.1//NONSGML v1.0//EN
CALSCALE:GREGORIAN
METHOD:PUBLISH
X-WR-CALNAME:Immanuel Lutheran Church
X-ORIGINAL-URL:https://immanuellutheranbrownton.org
X-WR-CALDESC:Events for Immanuel Lutheran Church
REFRESH-INTERVAL;VALUE=DURATION:PT1H
X-Robots-Tag:noindex
X-PUBLISHED-TTL:PT1H
BEGIN:VTIMEZONE
TZID:America/Chicago
BEGIN:DAYLIGHT
TZOFFSETFROM:-0600
TZOFFSETTO:-0500
TZNAME:CDT
DTSTART:20250309T080000
END:DAYLIGHT
BEGIN:STANDARD
TZOFFSETFROM:-0500
TZOFFSETTO:-0600
TZNAME:CST
DTSTART:20251102T070000
END:STANDARD
BEGIN:DAYLIGHT
TZOFFSETFROM:-0600
TZOFFSETTO:-0500
TZNAME:CDT
DTSTART:20260308T080000
END:DAYLIGHT
BEGIN:STANDARD
TZOFFSETFROM:-0500
TZOFFSETTO:-0600
TZNAME:CST
DTSTART:20261101T070000
END:STANDARD
BEGIN:DAYLIGHT
TZOFFSETFROM:-0600
TZOFFSETTO:-0500
TZNAME:CDT
DTSTART:20270314T080000
END:DAYLIGHT
BEGIN:STANDARD
TZOFFSETFROM:-0500
TZOFFSETTO:-0600
TZNAME:CST
DTSTART:20271107T070000
END:STANDARD
BEGIN:DAYLIGHT
TZOFFSETFROM:-0600
TZOFFSETTO:-0500
TZNAME:CDT
DTSTART:20280312T080000
END:DAYLIGHT
BEGIN:STANDARD
TZOFFSETFROM:-0500
TZOFFSETTO:-0600
TZNAME:CST
DTSTART:20281105T070000
END:STANDARD
BEGIN:DAYLIGHT
TZOFFSETFROM:-0600
TZOFFSETTO:-0500
TZNAME:CDT
DTSTART:20290311T080000
END:DAYLIGHT
BEGIN:STANDARD
TZOFFSETFROM:-0500
TZOFFSETTO:-0600
TZNAME:CST
DTSTART:20291104T070000
END:STANDARD
END:VTIMEZONE
BEGIN:VEVENT
DTSTART;TZID=America/Chicago:20260428T000000
DTEND;TZID=America/Chicago:20260428T235959
DTSTAMP:20260419T073254
CREATED:20240809T191157Z
LAST-MODIFIED:20240815T201540Z
UID:10003086-1777334400-1777420799@immanuellutheranbrownton.org
SUMMARY:Hutch Pines Visits
DESCRIPTION:
URL:https://immanuellutheranbrownton.org/event/hutch-pines-visits/2026-04-28/
END:VEVENT
BEGIN:VEVENT
DTSTART;TZID=America/Chicago:20260526T000000
DTEND;TZID=America/Chicago:20260526T235959
DTSTAMP:20260419T073254
CREATED:20240809T191157Z
LAST-MODIFIED:20240815T201540Z
UID:10003087-1779753600-1779839999@immanuellutheranbrownton.org
SUMMARY:Hutch Pines Visits
DESCRIPTION:
URL:https://immanuellutheranbrownton.org/event/hutch-pines-visits/2026-05-26/
END:VEVENT
BEGIN:VEVENT
DTSTART;TZID=America/Chicago:20260623T000000
DTEND;TZID=America/Chicago:20260623T235959
DTSTAMP:20260419T073254
CREATED:20240809T191157Z
LAST-MODIFIED:20240815T201540Z
UID:10003088-1782172800-1782259199@immanuellutheranbrownton.org
SUMMARY:Hutch Pines Visits
DESCRIPTION:
URL:https://immanuellutheranbrownton.org/event/hutch-pines-visits/2026-06-23/
END:VEVENT
BEGIN:VEVENT
DTSTART;TZID=America/Chicago:20260728T000000
DTEND;TZID=America/Chicago:20260728T235959
DTSTAMP:20260419T073254
CREATED:20240809T191157Z
LAST-MODIFIED:20240815T201540Z
UID:10003089-1785196800-1785283199@immanuellutheranbrownton.org
SUMMARY:Hutch Pines Visits
DESCRIPTION:
URL:https://immanuellutheranbrownton.org/event/hutch-pines-visits/2026-07-28/
END:VEVENT
BEGIN:VEVENT
DTSTART;TZID=America/Chicago:20260825T000000
DTEND;TZID=America/Chicago:20260825T235959
DTSTAMP:20260419T073254
CREATED:20240809T191157Z
LAST-MODIFIED:20240815T201540Z
UID:10003090-1787616000-1787702399@immanuellutheranbrownton.org
SUMMARY:Hutch Pines Visits
DESCRIPTION:
URL:https://immanuellutheranbrownton.org/event/hutch-pines-visits/2026-08-25/
END:VEVENT
BEGIN:VEVENT
DTSTART;TZID=America/Chicago:20260922T000000
DTEND;TZID=America/Chicago:20260922T235959
DTSTAMP:20260419T073254
CREATED:20240809T191157Z
LAST-MODIFIED:20240815T201540Z
UID:10003091-1790035200-1790121599@immanuellutheranbrownton.org
SUMMARY:Hutch Pines Visits
DESCRIPTION:
URL:https://immanuellutheranbrownton.org/event/hutch-pines-visits/2026-09-22/
END:VEVENT
BEGIN:VEVENT
DTSTART;TZID=America/Chicago:20261027T000000
DTEND;TZID=America/Chicago:20261027T235959
DTSTAMP:20260419T073254
CREATED:20240809T191157Z
LAST-MODIFIED:20240815T201540Z
UID:10003092-1793059200-1793145599@immanuellutheranbrownton.org
SUMMARY:Hutch Pines Visits
DESCRIPTION:
URL:https://immanuellutheranbrownton.org/event/hutch-pines-visits/2026-10-27/
END:VEVENT
BEGIN:VEVENT
DTSTART;TZID=America/Chicago:20261124T000000
DTEND;TZID=America/Chicago:20261124T235959
DTSTAMP:20260419T073254
CREATED:20240809T191157Z
LAST-MODIFIED:20240815T201540Z
UID:10003093-1795478400-1795564799@immanuellutheranbrownton.org
SUMMARY:Hutch Pines Visits
DESCRIPTION:
URL:https://immanuellutheranbrownton.org/event/hutch-pines-visits/2026-11-24/
END:VEVENT
BEGIN:VEVENT
DTSTART;TZID=America/Chicago:20261222T000000
DTEND;TZID=America/Chicago:20261222T235959
DTSTAMP:20260419T073254
CREATED:20240809T191157Z
LAST-MODIFIED:20240815T201540Z
UID:10003094-1797897600-1797983999@immanuellutheranbrownton.org
SUMMARY:Hutch Pines Visits
DESCRIPTION:
URL:https://immanuellutheranbrownton.org/event/hutch-pines-visits/2026-12-22/
END:VEVENT
BEGIN:VEVENT
DTSTART;TZID=America/Chicago:20270126T000000
DTEND;TZID=America/Chicago:20270126T235959
DTSTAMP:20260419T073254
CREATED:20240809T191157Z
LAST-MODIFIED:20240815T201540Z
UID:10003095-1800921600-1801007999@immanuellutheranbrownton.org
SUMMARY:Hutch Pines Visits
DESCRIPTION:
URL:https://immanuellutheranbrownton.org/event/hutch-pines-visits/2027-01-26/
END:VEVENT
BEGIN:VEVENT
DTSTART;TZID=America/Chicago:20270223T000000
DTEND;TZID=America/Chicago:20270223T235959
DTSTAMP:20260419T073254
CREATED:20240809T191157Z
LAST-MODIFIED:20240815T201540Z
UID:10003096-1803340800-1803427199@immanuellutheranbrownton.org
SUMMARY:Hutch Pines Visits
DESCRIPTION:
URL:https://immanuellutheranbrownton.org/event/hutch-pines-visits/2027-02-23/
END:VEVENT
BEGIN:VEVENT
DTSTART;TZID=America/Chicago:20270323T000000
DTEND;TZID=America/Chicago:20270323T235959
DTSTAMP:20260419T073254
CREATED:20240809T191157Z
LAST-MODIFIED:20240815T201540Z
UID:10003097-1805760000-1805846399@immanuellutheranbrownton.org
SUMMARY:Hutch Pines Visits
DESCRIPTION:
URL:https://immanuellutheranbrownton.org/event/hutch-pines-visits/2027-03-23/
END:VEVENT
BEGIN:VEVENT
DTSTART;TZID=America/Chicago:20270427T000000
DTEND;TZID=America/Chicago:20270427T235959
DTSTAMP:20260419T073254
CREATED:20240809T191157Z
LAST-MODIFIED:20240815T201540Z
UID:10003098-1808784000-1808870399@immanuellutheranbrownton.org
SUMMARY:Hutch Pines Visits
DESCRIPTION:
URL:https://immanuellutheranbrownton.org/event/hutch-pines-visits/2027-04-27/
END:VEVENT
BEGIN:VEVENT
DTSTART;TZID=America/Chicago:20270525T000000
DTEND;TZID=America/Chicago:20270525T235959
DTSTAMP:20260419T073254
CREATED:20240809T191157Z
LAST-MODIFIED:20240815T201540Z
UID:10003099-1811203200-1811289599@immanuellutheranbrownton.org
SUMMARY:Hutch Pines Visits
DESCRIPTION:
URL:https://immanuellutheranbrownton.org/event/hutch-pines-visits/2027-05-25/
END:VEVENT
BEGIN:VEVENT
DTSTART;TZID=America/Chicago:20270622T000000
DTEND;TZID=America/Chicago:20270622T235959
DTSTAMP:20260419T073254
CREATED:20240809T191157Z
LAST-MODIFIED:20240815T201540Z
UID:10003100-1813622400-1813708799@immanuellutheranbrownton.org
SUMMARY:Hutch Pines Visits
DESCRIPTION:
URL:https://immanuellutheranbrownton.org/event/hutch-pines-visits/2027-06-22/
END:VEVENT
BEGIN:VEVENT
DTSTART;TZID=America/Chicago:20270727T000000
DTEND;TZID=America/Chicago:20270727T235959
DTSTAMP:20260419T073254
CREATED:20240809T191157Z
LAST-MODIFIED:20240815T201540Z
UID:10003101-1816646400-1816732799@immanuellutheranbrownton.org
SUMMARY:Hutch Pines Visits
DESCRIPTION:
URL:https://immanuellutheranbrownton.org/event/hutch-pines-visits/2027-07-27/
END:VEVENT
BEGIN:VEVENT
DTSTART;TZID=America/Chicago:20270824T000000
DTEND;TZID=America/Chicago:20270824T235959
DTSTAMP:20260419T073254
CREATED:20240809T191157Z
LAST-MODIFIED:20240815T201540Z
UID:10003102-1819065600-1819151999@immanuellutheranbrownton.org
SUMMARY:Hutch Pines Visits
DESCRIPTION:
URL:https://immanuellutheranbrownton.org/event/hutch-pines-visits/2027-08-24/
END:VEVENT
BEGIN:VEVENT
DTSTART;TZID=America/Chicago:20270928T000000
DTEND;TZID=America/Chicago:20270928T235959
DTSTAMP:20260419T073254
CREATED:20240809T191157Z
LAST-MODIFIED:20240815T201540Z
UID:10003103-1822089600-1822175999@immanuellutheranbrownton.org
SUMMARY:Hutch Pines Visits
DESCRIPTION:
URL:https://immanuellutheranbrownton.org/event/hutch-pines-visits/2027-09-28/
END:VEVENT
BEGIN:VEVENT
DTSTART;TZID=America/Chicago:20271026T000000
DTEND;TZID=America/Chicago:20271026T235959
DTSTAMP:20260419T073254
CREATED:20240809T191157Z
LAST-MODIFIED:20240815T201540Z
UID:10003104-1824508800-1824595199@immanuellutheranbrownton.org
SUMMARY:Hutch Pines Visits
DESCRIPTION:
URL:https://immanuellutheranbrownton.org/event/hutch-pines-visits/2027-10-26/
END:VEVENT
BEGIN:VEVENT
DTSTART;TZID=America/Chicago:20271123T000000
DTEND;TZID=America/Chicago:20271123T235959
DTSTAMP:20260419T073254
CREATED:20240809T191157Z
LAST-MODIFIED:20240815T201540Z
UID:10003105-1826928000-1827014399@immanuellutheranbrownton.org
SUMMARY:Hutch Pines Visits
DESCRIPTION:
URL:https://immanuellutheranbrownton.org/event/hutch-pines-visits/2027-11-23/
END:VEVENT
BEGIN:VEVENT
DTSTART;TZID=America/Chicago:20271228T000000
DTEND;TZID=America/Chicago:20271228T235959
DTSTAMP:20260419T073254
CREATED:20240809T191157Z
LAST-MODIFIED:20240815T201540Z
UID:10003106-1829952000-1830038399@immanuellutheranbrownton.org
SUMMARY:Hutch Pines Visits
DESCRIPTION:
URL:https://immanuellutheranbrownton.org/event/hutch-pines-visits/2027-12-28/
END:VEVENT
BEGIN:VEVENT
DTSTART;TZID=America/Chicago:20280125T000000
DTEND;TZID=America/Chicago:20280125T235959
DTSTAMP:20260419T073254
CREATED:20240809T191157Z
LAST-MODIFIED:20240815T201540Z
UID:10003107-1832371200-1832457599@immanuellutheranbrownton.org
SUMMARY:Hutch Pines Visits
DESCRIPTION:
URL:https://immanuellutheranbrownton.org/event/hutch-pines-visits/2028-01-25/
END:VEVENT
BEGIN:VEVENT
DTSTART;TZID=America/Chicago:20280222T000000
DTEND;TZID=America/Chicago:20280222T235959
DTSTAMP:20260419T073254
CREATED:20240809T191157Z
LAST-MODIFIED:20240815T201540Z
UID:10003108-1834790400-1834876799@immanuellutheranbrownton.org
SUMMARY:Hutch Pines Visits
DESCRIPTION:
URL:https://immanuellutheranbrownton.org/event/hutch-pines-visits/2028-02-22/
END:VEVENT
BEGIN:VEVENT
DTSTART;TZID=America/Chicago:20280328T000000
DTEND;TZID=America/Chicago:20280328T235959
DTSTAMP:20260419T073254
CREATED:20240809T191157Z
LAST-MODIFIED:20240815T201540Z
UID:10003109-1837814400-1837900799@immanuellutheranbrownton.org
SUMMARY:Hutch Pines Visits
DESCRIPTION:
URL:https://immanuellutheranbrownton.org/event/hutch-pines-visits/2028-03-28/
END:VEVENT
BEGIN:VEVENT
DTSTART;TZID=America/Chicago:20280425T000000
DTEND;TZID=America/Chicago:20280425T235959
DTSTAMP:20260419T073254
CREATED:20240809T191157Z
LAST-MODIFIED:20240815T201540Z
UID:10003110-1840233600-1840319999@immanuellutheranbrownton.org
SUMMARY:Hutch Pines Visits
DESCRIPTION:
URL:https://immanuellutheranbrownton.org/event/hutch-pines-visits/2028-04-25/
END:VEVENT
BEGIN:VEVENT
DTSTART;TZID=America/Chicago:20280523T000000
DTEND;TZID=America/Chicago:20280523T235959
DTSTAMP:20260419T073254
CREATED:20240809T191157Z
LAST-MODIFIED:20240815T201540Z
UID:10003111-1842652800-1842739199@immanuellutheranbrownton.org
SUMMARY:Hutch Pines Visits
DESCRIPTION:
URL:https://immanuellutheranbrownton.org/event/hutch-pines-visits/2028-05-23/
END:VEVENT
BEGIN:VEVENT
DTSTART;TZID=America/Chicago:20280627T000000
DTEND;TZID=America/Chicago:20280627T235959
DTSTAMP:20260419T073254
CREATED:20240809T191157Z
LAST-MODIFIED:20240815T201540Z
UID:10003112-1845676800-1845763199@immanuellutheranbrownton.org
SUMMARY:Hutch Pines Visits
DESCRIPTION:
URL:https://immanuellutheranbrownton.org/event/hutch-pines-visits/2028-06-27/
END:VEVENT
BEGIN:VEVENT
DTSTART;TZID=America/Chicago:20280725T000000
DTEND;TZID=America/Chicago:20280725T235959
DTSTAMP:20260419T073254
CREATED:20240809T191157Z
LAST-MODIFIED:20240815T201540Z
UID:10003113-1848096000-1848182399@immanuellutheranbrownton.org
SUMMARY:Hutch Pines Visits
DESCRIPTION:
URL:https://immanuellutheranbrownton.org/event/hutch-pines-visits/2028-07-25/
END:VEVENT
BEGIN:VEVENT
DTSTART;TZID=America/Chicago:20280822T000000
DTEND;TZID=America/Chicago:20280822T235959
DTSTAMP:20260419T073254
CREATED:20240809T191157Z
LAST-MODIFIED:20240815T201540Z
UID:10003114-1850515200-1850601599@immanuellutheranbrownton.org
SUMMARY:Hutch Pines Visits
DESCRIPTION:
URL:https://immanuellutheranbrownton.org/event/hutch-pines-visits/2028-08-22/
END:VEVENT
BEGIN:VEVENT
DTSTART;TZID=America/Chicago:20280926T000000
DTEND;TZID=America/Chicago:20280926T235959
DTSTAMP:20260419T073254
CREATED:20240809T191157Z
LAST-MODIFIED:20240815T201540Z
UID:10003115-1853539200-1853625599@immanuellutheranbrownton.org
SUMMARY:Hutch Pines Visits
DESCRIPTION:
URL:https://immanuellutheranbrownton.org/event/hutch-pines-visits/2028-09-26/
END:VEVENT
END:VCALENDAR