BEGIN:VCALENDAR
VERSION:2.0
PRODID:-//Immanuel Lutheran Church - ECPv6.15.17.1//NONSGML v1.0//EN
CALSCALE:GREGORIAN
METHOD:PUBLISH
X-ORIGINAL-URL:https://immanuellutheranbrownton.org
X-WR-CALDESC:Events for Immanuel Lutheran Church
REFRESH-INTERVAL;VALUE=DURATION:PT1H
X-Robots-Tag:noindex
X-PUBLISHED-TTL:PT1H
BEGIN:VTIMEZONE
TZID:America/Chicago
BEGIN:DAYLIGHT
TZOFFSETFROM:-0600
TZOFFSETTO:-0500
TZNAME:CDT
DTSTART:20250309T080000
END:DAYLIGHT
BEGIN:STANDARD
TZOFFSETFROM:-0500
TZOFFSETTO:-0600
TZNAME:CST
DTSTART:20251102T070000
END:STANDARD
BEGIN:DAYLIGHT
TZOFFSETFROM:-0600
TZOFFSETTO:-0500
TZNAME:CDT
DTSTART:20260308T080000
END:DAYLIGHT
BEGIN:STANDARD
TZOFFSETFROM:-0500
TZOFFSETTO:-0600
TZNAME:CST
DTSTART:20261101T070000
END:STANDARD
BEGIN:DAYLIGHT
TZOFFSETFROM:-0600
TZOFFSETTO:-0500
TZNAME:CDT
DTSTART:20270314T080000
END:DAYLIGHT
BEGIN:STANDARD
TZOFFSETFROM:-0500
TZOFFSETTO:-0600
TZNAME:CST
DTSTART:20271107T070000
END:STANDARD
END:VTIMEZONE
BEGIN:VEVENT
DTSTART;TZID=America/Chicago:20260623T180000
DTEND;TZID=America/Chicago:20260623T200000
DTSTAMP:20260420T202806
CREATED:20260408T141914Z
LAST-MODIFIED:20260408T141916Z
UID:10006521-1782237600-1782244800@immanuellutheranbrownton.org
SUMMARY:Vacation Bible School
DESCRIPTION:
URL:https://immanuellutheranbrownton.org/event/vacation-bible-school-2/2026-06-23/
END:VEVENT
BEGIN:VEVENT
DTSTART;TZID=America/Chicago:20260624T180000
DTEND;TZID=America/Chicago:20260624T200000
DTSTAMP:20260420T202806
CREATED:20260408T141914Z
LAST-MODIFIED:20260408T141916Z
UID:10006522-1782324000-1782331200@immanuellutheranbrownton.org
SUMMARY:Vacation Bible School
DESCRIPTION:
URL:https://immanuellutheranbrownton.org/event/vacation-bible-school-2/2026-06-24/
END:VEVENT
BEGIN:VEVENT
DTSTART;TZID=America/Chicago:20260625T000000
DTEND;TZID=America/Chicago:20260625T235959
DTSTAMP:20260420T202806
CREATED:20240809T184416Z
LAST-MODIFIED:20240809T185716Z
UID:10002289-1782345600-1782431999@immanuellutheranbrownton.org
SUMMARY:Mona's Off
DESCRIPTION:
URL:https://immanuellutheranbrownton.org/event/monas-off/2026-06-25/
END:VEVENT
BEGIN:VEVENT
DTSTART;TZID=America/Chicago:20260625T183000
DTEND;TZID=America/Chicago:20260625T200000
DTSTAMP:20260420T202806
CREATED:20260408T142108Z
LAST-MODIFIED:20260408T142109Z
UID:10006523-1782412200-1782417600@immanuellutheranbrownton.org
SUMMARY:VBS Closing Program & Pie Social
DESCRIPTION:
URL:https://immanuellutheranbrownton.org/event/vbs-closing-program-pie-social/
END:VEVENT
BEGIN:VEVENT
DTSTART;TZID=America/Chicago:20260626T090000
DTEND;TZID=America/Chicago:20260626T100000
DTSTAMP:20260420T202806
CREATED:20240809T184115Z
LAST-MODIFIED:20240809T190745Z
UID:10000362-1782464400-1782468000@immanuellutheranbrownton.org
SUMMARY:100 Bible Stories
DESCRIPTION:
URL:https://immanuellutheranbrownton.org/event/100-bible-stories/2026-06-26/
LOCATION:Online
END:VEVENT
BEGIN:VEVENT
DTSTART;TZID=America/Chicago:20260628T090000
DTEND;TZID=America/Chicago:20260628T100000
DTSTAMP:20260420T202806
CREATED:20250424T001633Z
LAST-MODIFIED:20250424T001642Z
UID:10000101-1782637200-1782640800@immanuellutheranbrownton.org
SUMMARY:Worship Service/Holy Communion
DESCRIPTION:
URL:https://immanuellutheranbrownton.org/event/worship-service-holy-communion-choir-singing-10/2026-06-28/
LOCATION:Immanuel Lutheran\, 700 Division St\, Brownton\, Minnesota\, 55312
END:VEVENT
BEGIN:VEVENT
DTSTART;TZID=America/Chicago:20260628T101500
DTEND;TZID=America/Chicago:20260628T110000
DTSTAMP:20260420T202806
CREATED:20240809T184216Z
LAST-MODIFIED:20250505T173107Z
UID:10000623-1782641700-1782644400@immanuellutheranbrownton.org
SUMMARY:Adult Bible Class
DESCRIPTION:
URL:https://immanuellutheranbrownton.org/event/bible-class/2026-06-28/
LOCATION:Immanuel Lutheran\, 700 Division St\, Brownton\, Minnesota\, 55312
END:VEVENT
BEGIN:VEVENT
DTSTART;TZID=America/Chicago:20260629T000000
DTEND;TZID=America/Chicago:20260629T235959
DTSTAMP:20260420T202806
CREATED:20240809T184611Z
LAST-MODIFIED:20240815T195418Z
UID:10002714-1782691200-1782777599@immanuellutheranbrownton.org
SUMMARY:Pastor's Off
DESCRIPTION:
URL:https://immanuellutheranbrownton.org/event/pastors-off/2026-06-29/
END:VEVENT
BEGIN:VEVENT
DTSTART;TZID=America/Chicago:20260630T000000
DTEND;TZID=America/Chicago:20260630T235959
DTSTAMP:20260420T202806
CREATED:20240809T184416Z
LAST-MODIFIED:20240809T185716Z
UID:10002290-1782777600-1782863999@immanuellutheranbrownton.org
SUMMARY:Mona's Off
DESCRIPTION:
URL:https://immanuellutheranbrownton.org/event/monas-off/2026-06-30/
END:VEVENT
BEGIN:VEVENT
DTSTART;TZID=America/Chicago:20260702T000000
DTEND;TZID=America/Chicago:20260702T235959
DTSTAMP:20260420T202806
CREATED:20240809T184416Z
LAST-MODIFIED:20240809T185716Z
UID:10002291-1782950400-1783036799@immanuellutheranbrownton.org
SUMMARY:Mona's Off
DESCRIPTION:
URL:https://immanuellutheranbrownton.org/event/monas-off/2026-07-02/
END:VEVENT
BEGIN:VEVENT
DTSTART;TZID=America/Chicago:20260702T080000
DTEND;TZID=America/Chicago:20260702T170000
DTSTAMP:20260420T202806
CREATED:20251212T164750Z
LAST-MODIFIED:20251212T164751Z
UID:10006180-1782979200-1783011600@immanuellutheranbrownton.org
SUMMARY:Glenfield Visits
DESCRIPTION:
URL:https://immanuellutheranbrownton.org/event/glenfield-visits/2026-07-02/
END:VEVENT
BEGIN:VEVENT
DTSTART;TZID=America/Chicago:20260703T090000
DTEND;TZID=America/Chicago:20260703T100000
DTSTAMP:20260420T202806
CREATED:20240809T184115Z
LAST-MODIFIED:20240809T190745Z
UID:10000363-1783069200-1783072800@immanuellutheranbrownton.org
SUMMARY:100 Bible Stories
DESCRIPTION:
URL:https://immanuellutheranbrownton.org/event/100-bible-stories/2026-07-03/
LOCATION:Online
END:VEVENT
BEGIN:VEVENT
DTSTART;TZID=America/Chicago:20260703T133000
DTEND;TZID=America/Chicago:20260703T143000
DTSTAMP:20260420T202806
CREATED:20240816T150334Z
LAST-MODIFIED:20240821T190655Z
UID:10004585-1783085400-1783089000@immanuellutheranbrownton.org
SUMMARY:Ladies Aid Meeting
DESCRIPTION:
URL:https://immanuellutheranbrownton.org/event/ladies-aid-meeting/2026-07-03/
END:VEVENT
BEGIN:VEVENT
DTSTART;TZID=America/Chicago:20260705T090000
DTEND;TZID=America/Chicago:20260705T100000
DTSTAMP:20260420T202806
CREATED:20240815T201901Z
LAST-MODIFIED:20240815T201955Z
UID:10003148-1783242000-1783245600@immanuellutheranbrownton.org
SUMMARY:Worship Service/Holy Communion
DESCRIPTION:
URL:https://immanuellutheranbrownton.org/event/worship-service-holy-communion/2026-07-05/
END:VEVENT
BEGIN:VEVENT
DTSTART;TZID=America/Chicago:20260705T101500
DTEND;TZID=America/Chicago:20260705T110000
DTSTAMP:20260420T202806
CREATED:20240809T184216Z
LAST-MODIFIED:20250505T173107Z
UID:10000624-1783246500-1783249200@immanuellutheranbrownton.org
SUMMARY:Adult Bible Class
DESCRIPTION:
URL:https://immanuellutheranbrownton.org/event/bible-class/2026-07-05/
LOCATION:Immanuel Lutheran\, 700 Division St\, Brownton\, Minnesota\, 55312
END:VEVENT
BEGIN:VEVENT
DTSTART;TZID=America/Chicago:20260706T000000
DTEND;TZID=America/Chicago:20260706T235959
DTSTAMP:20260420T202806
CREATED:20240809T184611Z
LAST-MODIFIED:20240815T195418Z
UID:10002715-1783296000-1783382399@immanuellutheranbrownton.org
SUMMARY:Pastor's Off
DESCRIPTION:
URL:https://immanuellutheranbrownton.org/event/pastors-off/2026-07-06/
END:VEVENT
BEGIN:VEVENT
DTSTART;TZID=America/Chicago:20260707T000000
DTEND;TZID=America/Chicago:20260707T235959
DTSTAMP:20260420T202806
CREATED:20240809T184416Z
LAST-MODIFIED:20240809T185716Z
UID:10002292-1783382400-1783468799@immanuellutheranbrownton.org
SUMMARY:Mona's Off
DESCRIPTION:
URL:https://immanuellutheranbrownton.org/event/monas-off/2026-07-07/
END:VEVENT
BEGIN:VEVENT
DTSTART;TZID=America/Chicago:20260707T000000
DTEND;TZID=America/Chicago:20260707T235959
DTSTAMP:20260420T202806
CREATED:20250804T164934Z
LAST-MODIFIED:20250804T164935Z
UID:10005728-1783382400-1783468799@immanuellutheranbrownton.org
SUMMARY:Noah's Ark Preschool Fundraiser at BBG
DESCRIPTION:
URL:https://immanuellutheranbrownton.org/event/noahs-ark-preschool-fundraiser-at-bbg-3/2026-07-07/
END:VEVENT
BEGIN:VEVENT
DTSTART;TZID=America/Chicago:20260707T080000
DTEND;TZID=America/Chicago:20260707T170000
DTSTAMP:20260420T202806
CREATED:20251212T164920Z
LAST-MODIFIED:20251212T164921Z
UID:10006239-1783411200-1783443600@immanuellutheranbrownton.org
SUMMARY:Grand Meadows Visits
DESCRIPTION:
URL:https://immanuellutheranbrownton.org/event/grand-meadows-visits-4/2026-07-07/
END:VEVENT
BEGIN:VEVENT
DTSTART;TZID=America/Chicago:20260707T183000
DTEND;TZID=America/Chicago:20260707T193000
DTSTAMP:20260420T202806
CREATED:20250611T150524Z
LAST-MODIFIED:20250611T151927Z
UID:10005513-1783449000-1783452600@immanuellutheranbrownton.org
SUMMARY:Deacon's Meeting
DESCRIPTION:
URL:https://immanuellutheranbrownton.org/event/deacons-meeting/2026-07-07/
END:VEVENT
BEGIN:VEVENT
DTSTART;TZID=America/Chicago:20260709T000000
DTEND;TZID=America/Chicago:20260709T235959
DTSTAMP:20260420T202806
CREATED:20240809T184416Z
LAST-MODIFIED:20240809T185716Z
UID:10002293-1783555200-1783641599@immanuellutheranbrownton.org
SUMMARY:Mona's Off
DESCRIPTION:
URL:https://immanuellutheranbrownton.org/event/monas-off/2026-07-09/
END:VEVENT
BEGIN:VEVENT
DTSTART;TZID=America/Chicago:20260710T090000
DTEND;TZID=America/Chicago:20260710T100000
DTSTAMP:20260420T202806
CREATED:20240809T184115Z
LAST-MODIFIED:20240809T190745Z
UID:10000364-1783674000-1783677600@immanuellutheranbrownton.org
SUMMARY:100 Bible Stories
DESCRIPTION:
URL:https://immanuellutheranbrownton.org/event/100-bible-stories/2026-07-10/
LOCATION:Online
END:VEVENT
BEGIN:VEVENT
DTSTART;TZID=America/Chicago:20260712T093000
DTEND;TZID=America/Chicago:20260712T100000
DTSTAMP:20260420T202806
CREATED:20240816T160155Z
LAST-MODIFIED:20240816T160156Z
UID:10004137-1783848600-1783850400@immanuellutheranbrownton.org
SUMMARY:Worship Service
DESCRIPTION:
URL:https://immanuellutheranbrownton.org/event/worship-service-7/2026-07-12/
END:VEVENT
BEGIN:VEVENT
DTSTART;TZID=America/Chicago:20260712T101500
DTEND;TZID=America/Chicago:20260712T110000
DTSTAMP:20260420T202806
CREATED:20240809T184216Z
LAST-MODIFIED:20250505T173107Z
UID:10000625-1783851300-1783854000@immanuellutheranbrownton.org
SUMMARY:Adult Bible Class
DESCRIPTION:
URL:https://immanuellutheranbrownton.org/event/bible-class/2026-07-12/
LOCATION:Immanuel Lutheran\, 700 Division St\, Brownton\, Minnesota\, 55312
END:VEVENT
BEGIN:VEVENT
DTSTART;TZID=America/Chicago:20260713T000000
DTEND;TZID=America/Chicago:20260713T235959
DTSTAMP:20260420T202806
CREATED:20240809T184611Z
LAST-MODIFIED:20240815T195418Z
UID:10002716-1783900800-1783987199@immanuellutheranbrownton.org
SUMMARY:Pastor's Off
DESCRIPTION:
URL:https://immanuellutheranbrownton.org/event/pastors-off/2026-07-13/
END:VEVENT
BEGIN:VEVENT
DTSTART;TZID=America/Chicago:20260714T000000
DTEND;TZID=America/Chicago:20260714T235959
DTSTAMP:20260420T202806
CREATED:20240809T184416Z
LAST-MODIFIED:20240809T185716Z
UID:10002294-1783987200-1784073599@immanuellutheranbrownton.org
SUMMARY:Mona's Off
DESCRIPTION:
URL:https://immanuellutheranbrownton.org/event/monas-off/2026-07-14/
END:VEVENT
BEGIN:VEVENT
DTSTART;TZID=America/Chicago:20260714T080000
DTEND;TZID=America/Chicago:20260714T170000
DTSTAMP:20260420T202806
CREATED:20251212T165009Z
LAST-MODIFIED:20251212T165011Z
UID:10006298-1784016000-1784048400@immanuellutheranbrownton.org
SUMMARY:Harmony River Visits
DESCRIPTION:
URL:https://immanuellutheranbrownton.org/event/harmony-river-visits-4/2026-07-14/
END:VEVENT
BEGIN:VEVENT
DTSTART;TZID=America/Chicago:20260715T133000
DTEND;TZID=America/Chicago:20260715T143000
DTSTAMP:20260420T202806
CREATED:20240816T145236Z
LAST-MODIFIED:20240816T145237Z
UID:10004007-1784122200-1784125800@immanuellutheranbrownton.org
SUMMARY:Afternoon Worship Service/Holy Communion
DESCRIPTION:
URL:https://immanuellutheranbrownton.org/event/afternoon-worship-service-holy-communion/2026-07-15/
END:VEVENT
BEGIN:VEVENT
DTSTART;TZID=America/Chicago:20260716T000000
DTEND;TZID=America/Chicago:20260716T235959
DTSTAMP:20260420T202806
CREATED:20240809T184416Z
LAST-MODIFIED:20240809T185716Z
UID:10002295-1784160000-1784246399@immanuellutheranbrownton.org
SUMMARY:Mona's Off
DESCRIPTION:
URL:https://immanuellutheranbrownton.org/event/monas-off/2026-07-16/
END:VEVENT
BEGIN:VEVENT
DTSTART;TZID=America/Chicago:20260717T090000
DTEND;TZID=America/Chicago:20260717T100000
DTSTAMP:20260420T202806
CREATED:20240809T184115Z
LAST-MODIFIED:20240809T190745Z
UID:10000365-1784278800-1784282400@immanuellutheranbrownton.org
SUMMARY:100 Bible Stories
DESCRIPTION:
URL:https://immanuellutheranbrownton.org/event/100-bible-stories/2026-07-17/
LOCATION:Online
END:VEVENT
END:VCALENDAR