BEGIN:VCALENDAR
VERSION:2.0
PRODID:-//Immanuel Lutheran Church - ECPv6.15.20//NONSGML v1.0//EN
CALSCALE:GREGORIAN
METHOD:PUBLISH
X-WR-CALNAME:Immanuel Lutheran Church
X-ORIGINAL-URL:https://immanuellutheranbrownton.org
X-WR-CALDESC:Events for Immanuel Lutheran Church
REFRESH-INTERVAL;VALUE=DURATION:PT1H
X-Robots-Tag:noindex
X-PUBLISHED-TTL:PT1H
BEGIN:VTIMEZONE
TZID:America/Chicago
BEGIN:DAYLIGHT
TZOFFSETFROM:-0600
TZOFFSETTO:-0500
TZNAME:CDT
DTSTART:20240310T080000
END:DAYLIGHT
BEGIN:STANDARD
TZOFFSETFROM:-0500
TZOFFSETTO:-0600
TZNAME:CST
DTSTART:20241103T070000
END:STANDARD
BEGIN:DAYLIGHT
TZOFFSETFROM:-0600
TZOFFSETTO:-0500
TZNAME:CDT
DTSTART:20250309T080000
END:DAYLIGHT
BEGIN:STANDARD
TZOFFSETFROM:-0500
TZOFFSETTO:-0600
TZNAME:CST
DTSTART:20251102T070000
END:STANDARD
BEGIN:DAYLIGHT
TZOFFSETFROM:-0600
TZOFFSETTO:-0500
TZNAME:CDT
DTSTART:20260308T080000
END:DAYLIGHT
BEGIN:STANDARD
TZOFFSETFROM:-0500
TZOFFSETTO:-0600
TZNAME:CST
DTSTART:20261101T070000
END:STANDARD
END:VTIMEZONE
BEGIN:VEVENT
DTSTART;TZID=America/Chicago:20250807T000000
DTEND;TZID=America/Chicago:20250807T235959
DTSTAMP:20260421T185041
CREATED:20240809T184416Z
LAST-MODIFIED:20240809T185716Z
UID:10002197-1754524800-1754611199@immanuellutheranbrownton.org
SUMMARY:Mona's Off
DESCRIPTION:
URL:https://immanuellutheranbrownton.org/event/monas-off/2025-08-07/
END:VEVENT
BEGIN:VEVENT
DTSTART;TZID=America/Chicago:20250805T183000
DTEND;TZID=America/Chicago:20250805T193000
DTSTAMP:20260421T185041
CREATED:20250611T150524Z
LAST-MODIFIED:20250611T151927Z
UID:10005502-1754418600-1754422200@immanuellutheranbrownton.org
SUMMARY:Deacon's Meeting
DESCRIPTION:
URL:https://immanuellutheranbrownton.org/event/deacons-meeting/2025-08-05/
END:VEVENT
BEGIN:VEVENT
DTSTART;TZID=America/Chicago:20250805T000000
DTEND;TZID=America/Chicago:20250805T235959
DTSTAMP:20260421T185041
CREATED:20250804T164934Z
LAST-MODIFIED:20250804T164935Z
UID:10005221-1754352000-1754438399@immanuellutheranbrownton.org
SUMMARY:Noah's Ark Preschool Fundraiser at BBG
DESCRIPTION:
URL:https://immanuellutheranbrownton.org/event/noahs-ark-preschool-fundraiser-at-bbg-3/2025-08-05/
END:VEVENT
BEGIN:VEVENT
DTSTART;TZID=America/Chicago:20250805T000000
DTEND;TZID=America/Chicago:20250805T235959
DTSTAMP:20260421T185041
CREATED:20240815T195127Z
LAST-MODIFIED:20250813T141907Z
UID:10002896-1754352000-1754438399@immanuellutheranbrownton.org
SUMMARY:Glencoe Visits
DESCRIPTION:
URL:https://immanuellutheranbrownton.org/event/grand-meadows-visits/2025-08-05/
END:VEVENT
BEGIN:VEVENT
DTSTART;TZID=America/Chicago:20250805T000000
DTEND;TZID=America/Chicago:20250805T235959
DTSTAMP:20260421T185041
CREATED:20240809T184416Z
LAST-MODIFIED:20240809T185716Z
UID:10002196-1754352000-1754438399@immanuellutheranbrownton.org
SUMMARY:Mona's Off
DESCRIPTION:
URL:https://immanuellutheranbrownton.org/event/monas-off/2025-08-05/
END:VEVENT
BEGIN:VEVENT
DTSTART;TZID=America/Chicago:20250804T000000
DTEND;TZID=America/Chicago:20250804T235959
DTSTAMP:20260421T185041
CREATED:20240809T184611Z
LAST-MODIFIED:20240815T195418Z
UID:10002667-1754265600-1754351999@immanuellutheranbrownton.org
SUMMARY:Pastor's Off
DESCRIPTION:
URL:https://immanuellutheranbrownton.org/event/pastors-off/2025-08-04/
END:VEVENT
BEGIN:VEVENT
DTSTART;TZID=America/Chicago:20250803T101500
DTEND;TZID=America/Chicago:20250803T110000
DTSTAMP:20260421T185041
CREATED:20240809T184216Z
LAST-MODIFIED:20250505T173107Z
UID:10000576-1754216100-1754218800@immanuellutheranbrownton.org
SUMMARY:Adult Bible Class
DESCRIPTION:
URL:https://immanuellutheranbrownton.org/event/bible-class/2025-08-03/
LOCATION:Immanuel Lutheran\, 700 Division St\, Brownton\, Minnesota\, 55312
END:VEVENT
BEGIN:VEVENT
DTSTART;TZID=America/Chicago:20250803T090000
DTEND;TZID=America/Chicago:20250803T100000
DTSTAMP:20260421T185041
CREATED:20240815T201901Z
LAST-MODIFIED:20240815T201955Z
UID:10003137-1754211600-1754215200@immanuellutheranbrownton.org
SUMMARY:Worship Service/Holy Communion
DESCRIPTION:
URL:https://immanuellutheranbrownton.org/event/worship-service-holy-communion/2025-08-03/
END:VEVENT
BEGIN:VEVENT
DTSTART;TZID=America/Chicago:20250801T133000
DTEND;TZID=America/Chicago:20250801T143000
DTSTAMP:20260421T185041
CREATED:20240816T150334Z
LAST-MODIFIED:20240821T190655Z
UID:10004574-1754055000-1754058600@immanuellutheranbrownton.org
SUMMARY:Ladies Aid Meeting
DESCRIPTION:
URL:https://immanuellutheranbrownton.org/event/ladies-aid-meeting/2025-08-01/
END:VEVENT
BEGIN:VEVENT
DTSTART;TZID=America/Chicago:20250801T090000
DTEND;TZID=America/Chicago:20250801T100000
DTSTAMP:20260421T185041
CREATED:20240809T184115Z
LAST-MODIFIED:20240809T190745Z
UID:10000315-1754038800-1754042400@immanuellutheranbrownton.org
SUMMARY:100 Bible Stories
DESCRIPTION:
URL:https://immanuellutheranbrownton.org/event/100-bible-stories/2025-08-01/
LOCATION:Online
END:VEVENT
BEGIN:VEVENT
DTSTART;TZID=America/Chicago:20250731T000000
DTEND;TZID=America/Chicago:20250731T235959
DTSTAMP:20260421T185041
CREATED:20240809T184416Z
LAST-MODIFIED:20240809T185716Z
UID:10002195-1753920000-1754006399@immanuellutheranbrownton.org
SUMMARY:Mona's Off
DESCRIPTION:
URL:https://immanuellutheranbrownton.org/event/monas-off/2025-07-31/
END:VEVENT
BEGIN:VEVENT
DTSTART;TZID=America/Chicago:20250730T000000
DTEND;TZID=America/Chicago:20250730T235959
DTSTAMP:20260421T185041
CREATED:20250516T170704Z
LAST-MODIFIED:20250516T171151Z
UID:10005416-1753833600-1753919999@immanuellutheranbrownton.org
SUMMARY:Pastor & Sherry on Vacation
DESCRIPTION:
URL:https://immanuellutheranbrownton.org/event/pastor-sherry-on-vacation/2025-07-30/
END:VEVENT
BEGIN:VEVENT
DTSTART;TZID=America/Chicago:20250729T000000
DTEND;TZID=America/Chicago:20250729T235959
DTSTAMP:20260421T185041
CREATED:20250516T170704Z
LAST-MODIFIED:20250516T171151Z
UID:10005415-1753747200-1753833599@immanuellutheranbrownton.org
SUMMARY:Pastor & Sherry on Vacation
DESCRIPTION:
URL:https://immanuellutheranbrownton.org/event/pastor-sherry-on-vacation/2025-07-29/
END:VEVENT
BEGIN:VEVENT
DTSTART;TZID=America/Chicago:20250729T000000
DTEND;TZID=America/Chicago:20250729T235959
DTSTAMP:20260421T185041
CREATED:20240809T184416Z
LAST-MODIFIED:20240809T185716Z
UID:10002194-1753747200-1753833599@immanuellutheranbrownton.org
SUMMARY:Mona's Off
DESCRIPTION:
URL:https://immanuellutheranbrownton.org/event/monas-off/2025-07-29/
END:VEVENT
BEGIN:VEVENT
DTSTART;TZID=America/Chicago:20250728T000000
DTEND;TZID=America/Chicago:20250728T235959
DTSTAMP:20260421T185041
CREATED:20250516T170704Z
LAST-MODIFIED:20250516T171151Z
UID:10005414-1753660800-1753747199@immanuellutheranbrownton.org
SUMMARY:Pastor & Sherry on Vacation
DESCRIPTION:
URL:https://immanuellutheranbrownton.org/event/pastor-sherry-on-vacation/2025-07-28/
END:VEVENT
BEGIN:VEVENT
DTSTART;TZID=America/Chicago:20250728T000000
DTEND;TZID=America/Chicago:20250728T235959
DTSTAMP:20260421T185041
CREATED:20240809T184611Z
LAST-MODIFIED:20240815T195418Z
UID:10002666-1753660800-1753747199@immanuellutheranbrownton.org
SUMMARY:Pastor's Off
DESCRIPTION:
URL:https://immanuellutheranbrownton.org/event/pastors-off/2025-07-28/
END:VEVENT
BEGIN:VEVENT
DTSTART;TZID=America/Chicago:20250727T101500
DTEND;TZID=America/Chicago:20250727T113000
DTSTAMP:20260421T185041
CREATED:20250514T152003Z
LAST-MODIFIED:20250514T152005Z
UID:10005384-1753611300-1753615800@immanuellutheranbrownton.org
SUMMARY:NO Adult Bible Class
DESCRIPTION:
URL:https://immanuellutheranbrownton.org/event/no-adult-bible-class-2/
END:VEVENT
BEGIN:VEVENT
DTSTART;TZID=America/Chicago:20250727T090000
DTEND;TZID=America/Chicago:20250727T100000
DTSTAMP:20260421T185041
CREATED:20250514T151757Z
LAST-MODIFIED:20250514T151758Z
UID:10005383-1753606800-1753610400@immanuellutheranbrownton.org
SUMMARY:Worship Service/Pastor Robert Alsleben Preaching
DESCRIPTION:
URL:https://immanuellutheranbrownton.org/event/worship-service-pastor-robert-alsleben-preaching/
END:VEVENT
BEGIN:VEVENT
DTSTART;TZID=America/Chicago:20250727T090000
DTEND;TZID=America/Chicago:20250727T093000
DTSTAMP:20260421T185041
CREATED:20250514T151546Z
LAST-MODIFIED:20250514T151547Z
UID:10005381-1753606800-1753608600@immanuellutheranbrownton.org
SUMMARY:NO Communion
DESCRIPTION:
URL:https://immanuellutheranbrownton.org/event/no-communion/
END:VEVENT
BEGIN:VEVENT
DTSTART;TZID=America/Chicago:20250727T000000
DTEND;TZID=America/Chicago:20250727T235959
DTSTAMP:20260421T185041
CREATED:20250516T170704Z
LAST-MODIFIED:20250516T171151Z
UID:10005413-1753574400-1753660799@immanuellutheranbrownton.org
SUMMARY:Pastor & Sherry on Vacation
DESCRIPTION:
URL:https://immanuellutheranbrownton.org/event/pastor-sherry-on-vacation/2025-07-27/
END:VEVENT
BEGIN:VEVENT
DTSTART;TZID=America/Chicago:20250726T000000
DTEND;TZID=America/Chicago:20250726T235959
DTSTAMP:20260421T185041
CREATED:20250516T170704Z
LAST-MODIFIED:20250516T171151Z
UID:10005412-1753488000-1753574399@immanuellutheranbrownton.org
SUMMARY:Pastor & Sherry on Vacation
DESCRIPTION:
URL:https://immanuellutheranbrownton.org/event/pastor-sherry-on-vacation/2025-07-26/
END:VEVENT
BEGIN:VEVENT
DTSTART;TZID=America/Chicago:20250725T090000
DTEND;TZID=America/Chicago:20250725T093000
DTSTAMP:20260421T185041
CREATED:20250516T170033Z
LAST-MODIFIED:20250516T170034Z
UID:10005401-1753434000-1753435800@immanuellutheranbrownton.org
SUMMARY:NO 100 Bible Stories
DESCRIPTION:
URL:https://immanuellutheranbrownton.org/event/no-100-bible-stories-7/
END:VEVENT
BEGIN:VEVENT
DTSTART;TZID=America/Chicago:20250725T000000
DTEND;TZID=America/Chicago:20250725T235959
DTSTAMP:20260421T185041
CREATED:20250516T170704Z
LAST-MODIFIED:20250516T171151Z
UID:10005411-1753401600-1753487999@immanuellutheranbrownton.org
SUMMARY:Pastor & Sherry on Vacation
DESCRIPTION:
URL:https://immanuellutheranbrownton.org/event/pastor-sherry-on-vacation/2025-07-25/
END:VEVENT
BEGIN:VEVENT
DTSTART;TZID=America/Chicago:20250724T000000
DTEND;TZID=America/Chicago:20250724T235959
DTSTAMP:20260421T185041
CREATED:20250516T170704Z
LAST-MODIFIED:20250516T171151Z
UID:10005410-1753315200-1753401599@immanuellutheranbrownton.org
SUMMARY:Pastor & Sherry on Vacation
DESCRIPTION:
URL:https://immanuellutheranbrownton.org/event/pastor-sherry-on-vacation/2025-07-24/
END:VEVENT
BEGIN:VEVENT
DTSTART;TZID=America/Chicago:20250724T000000
DTEND;TZID=America/Chicago:20250724T235959
DTSTAMP:20260421T185041
CREATED:20240809T184416Z
LAST-MODIFIED:20240809T185716Z
UID:10002193-1753315200-1753401599@immanuellutheranbrownton.org
SUMMARY:Mona's Off
DESCRIPTION:
URL:https://immanuellutheranbrownton.org/event/monas-off/2025-07-24/
END:VEVENT
BEGIN:VEVENT
DTSTART;TZID=America/Chicago:20250723T000000
DTEND;TZID=America/Chicago:20250723T235959
DTSTAMP:20260421T185041
CREATED:20250516T170704Z
LAST-MODIFIED:20250516T171151Z
UID:10005409-1753228800-1753315199@immanuellutheranbrownton.org
SUMMARY:Pastor & Sherry on Vacation
DESCRIPTION:
URL:https://immanuellutheranbrownton.org/event/pastor-sherry-on-vacation/2025-07-23/
END:VEVENT
BEGIN:VEVENT
DTSTART;TZID=America/Chicago:20250722T000000
DTEND;TZID=America/Chicago:20250722T235959
DTSTAMP:20260421T185041
CREATED:20250516T170704Z
LAST-MODIFIED:20250516T171151Z
UID:10005408-1753142400-1753228799@immanuellutheranbrownton.org
SUMMARY:Pastor & Sherry on Vacation
DESCRIPTION:
URL:https://immanuellutheranbrownton.org/event/pastor-sherry-on-vacation/2025-07-22/
END:VEVENT
BEGIN:VEVENT
DTSTART;TZID=America/Chicago:20250722T000000
DTEND;TZID=America/Chicago:20250722T235959
DTSTAMP:20260421T185041
CREATED:20240809T184416Z
LAST-MODIFIED:20240809T185716Z
UID:10002192-1753142400-1753228799@immanuellutheranbrownton.org
SUMMARY:Mona's Off
DESCRIPTION:
URL:https://immanuellutheranbrownton.org/event/monas-off/2025-07-22/
END:VEVENT
BEGIN:VEVENT
DTSTART;TZID=America/Chicago:20250721T000000
DTEND;TZID=America/Chicago:20250721T235959
DTSTAMP:20260421T185041
CREATED:20250516T170704Z
LAST-MODIFIED:20250516T171151Z
UID:10005407-1753056000-1753142399@immanuellutheranbrownton.org
SUMMARY:Pastor & Sherry on Vacation
DESCRIPTION:
URL:https://immanuellutheranbrownton.org/event/pastor-sherry-on-vacation/2025-07-21/
END:VEVENT
BEGIN:VEVENT
DTSTART;TZID=America/Chicago:20250721T000000
DTEND;TZID=America/Chicago:20250721T235959
DTSTAMP:20260421T185041
CREATED:20240809T184611Z
LAST-MODIFIED:20240815T195418Z
UID:10002665-1753056000-1753142399@immanuellutheranbrownton.org
SUMMARY:Pastor's Off
DESCRIPTION:
URL:https://immanuellutheranbrownton.org/event/pastors-off/2025-07-21/
END:VEVENT
END:VCALENDAR