BEGIN:VCALENDAR
VERSION:2.0
PRODID:-//Immanuel Lutheran Church - ECPv6.15.20//NONSGML v1.0//EN
CALSCALE:GREGORIAN
METHOD:PUBLISH
X-ORIGINAL-URL:https://immanuellutheranbrownton.org
X-WR-CALDESC:Events for Immanuel Lutheran Church
REFRESH-INTERVAL;VALUE=DURATION:PT1H
X-Robots-Tag:noindex
X-PUBLISHED-TTL:PT1H
BEGIN:VTIMEZONE
TZID:America/Chicago
BEGIN:DAYLIGHT
TZOFFSETFROM:-0600
TZOFFSETTO:-0500
TZNAME:CDT
DTSTART:20260308T080000
END:DAYLIGHT
BEGIN:STANDARD
TZOFFSETFROM:-0500
TZOFFSETTO:-0600
TZNAME:CST
DTSTART:20261101T070000
END:STANDARD
BEGIN:DAYLIGHT
TZOFFSETFROM:-0600
TZOFFSETTO:-0500
TZNAME:CDT
DTSTART:20270314T080000
END:DAYLIGHT
BEGIN:STANDARD
TZOFFSETFROM:-0500
TZOFFSETTO:-0600
TZNAME:CST
DTSTART:20271107T070000
END:STANDARD
BEGIN:DAYLIGHT
TZOFFSETFROM:-0600
TZOFFSETTO:-0500
TZNAME:CDT
DTSTART:20280312T080000
END:DAYLIGHT
BEGIN:STANDARD
TZOFFSETFROM:-0500
TZOFFSETTO:-0600
TZNAME:CST
DTSTART:20281105T070000
END:STANDARD
END:VTIMEZONE
BEGIN:VEVENT
DTSTART;TZID=America/Chicago:20270305T090000
DTEND;TZID=America/Chicago:20270305T100000
DTSTAMP:20260423T090346
CREATED:20240809T184115Z
LAST-MODIFIED:20240809T190745Z
UID:10000398-1804237200-1804240800@immanuellutheranbrownton.org
SUMMARY:100 Bible Stories
DESCRIPTION:
URL:https://immanuellutheranbrownton.org/event/100-bible-stories/2027-03-05/
LOCATION:Online
END:VEVENT
BEGIN:VEVENT
DTSTART;TZID=America/Chicago:20270305T133000
DTEND;TZID=America/Chicago:20270305T143000
DTSTAMP:20260423T090346
CREATED:20240816T150334Z
LAST-MODIFIED:20240821T190655Z
UID:10004593-1804253400-1804257000@immanuellutheranbrownton.org
SUMMARY:Ladies Aid Meeting
DESCRIPTION:
URL:https://immanuellutheranbrownton.org/event/ladies-aid-meeting/2027-03-05/
END:VEVENT
BEGIN:VEVENT
DTSTART;TZID=America/Chicago:20270307T090000
DTEND;TZID=America/Chicago:20270307T100000
DTSTAMP:20260423T090346
CREATED:20240815T201901Z
LAST-MODIFIED:20240815T201955Z
UID:10003156-1804410000-1804413600@immanuellutheranbrownton.org
SUMMARY:Worship Service/Holy Communion
DESCRIPTION:
URL:https://immanuellutheranbrownton.org/event/worship-service-holy-communion/2027-03-07/
END:VEVENT
BEGIN:VEVENT
DTSTART;TZID=America/Chicago:20270307T101500
DTEND;TZID=America/Chicago:20270307T110000
DTSTAMP:20260423T090346
CREATED:20240809T184216Z
LAST-MODIFIED:20250505T173107Z
UID:10000659-1804414500-1804417200@immanuellutheranbrownton.org
SUMMARY:Adult Bible Class
DESCRIPTION:
URL:https://immanuellutheranbrownton.org/event/bible-class/2027-03-07/
LOCATION:Immanuel Lutheran\, 700 Division St\, Brownton\, Minnesota\, 55312
END:VEVENT
BEGIN:VEVENT
DTSTART;TZID=America/Chicago:20270308T000000
DTEND;TZID=America/Chicago:20270308T235959
DTSTAMP:20260423T090346
CREATED:20240809T184611Z
LAST-MODIFIED:20240815T195418Z
UID:10002750-1804464000-1804550399@immanuellutheranbrownton.org
SUMMARY:Pastor's Off
DESCRIPTION:
URL:https://immanuellutheranbrownton.org/event/pastors-off/2027-03-08/
END:VEVENT
BEGIN:VEVENT
DTSTART;TZID=America/Chicago:20270309T000000
DTEND;TZID=America/Chicago:20270309T235959
DTSTAMP:20260423T090346
CREATED:20240809T184416Z
LAST-MODIFIED:20240809T185716Z
UID:10002362-1804550400-1804636799@immanuellutheranbrownton.org
SUMMARY:Mona's Off
DESCRIPTION:
URL:https://immanuellutheranbrownton.org/event/monas-off/2027-03-09/
END:VEVENT
BEGIN:VEVENT
DTSTART;TZID=America/Chicago:20270309T080000
DTEND;TZID=America/Chicago:20270309T170000
DTSTAMP:20260423T090346
CREATED:20251212T165009Z
LAST-MODIFIED:20251212T165011Z
UID:10006306-1804579200-1804611600@immanuellutheranbrownton.org
SUMMARY:Harmony River Visits
DESCRIPTION:
URL:https://immanuellutheranbrownton.org/event/harmony-river-visits-4/2027-03-09/
END:VEVENT
BEGIN:VEVENT
DTSTART;TZID=America/Chicago:20270311T000000
DTEND;TZID=America/Chicago:20270311T235959
DTSTAMP:20260423T090346
CREATED:20240809T184416Z
LAST-MODIFIED:20240809T185716Z
UID:10002363-1804723200-1804809599@immanuellutheranbrownton.org
SUMMARY:Mona's Off
DESCRIPTION:
URL:https://immanuellutheranbrownton.org/event/monas-off/2027-03-11/
END:VEVENT
BEGIN:VEVENT
DTSTART;TZID=America/Chicago:20270312T090000
DTEND;TZID=America/Chicago:20270312T100000
DTSTAMP:20260423T090346
CREATED:20240809T184115Z
LAST-MODIFIED:20240809T190745Z
UID:10000399-1804842000-1804845600@immanuellutheranbrownton.org
SUMMARY:100 Bible Stories
DESCRIPTION:
URL:https://immanuellutheranbrownton.org/event/100-bible-stories/2027-03-12/
LOCATION:Online
END:VEVENT
BEGIN:VEVENT
DTSTART;TZID=America/Chicago:20270314T093000
DTEND;TZID=America/Chicago:20270314T100000
DTSTAMP:20260423T090346
CREATED:20240816T160155Z
LAST-MODIFIED:20240816T160156Z
UID:10004145-1805016600-1805018400@immanuellutheranbrownton.org
SUMMARY:Worship Service
DESCRIPTION:
URL:https://immanuellutheranbrownton.org/event/worship-service-7/2027-03-14/
END:VEVENT
BEGIN:VEVENT
DTSTART;TZID=America/Chicago:20270314T101500
DTEND;TZID=America/Chicago:20270314T110000
DTSTAMP:20260423T090346
CREATED:20240809T184216Z
LAST-MODIFIED:20250505T173107Z
UID:10000660-1805019300-1805022000@immanuellutheranbrownton.org
SUMMARY:Adult Bible Class
DESCRIPTION:
URL:https://immanuellutheranbrownton.org/event/bible-class/2027-03-14/
LOCATION:Immanuel Lutheran\, 700 Division St\, Brownton\, Minnesota\, 55312
END:VEVENT
BEGIN:VEVENT
DTSTART;TZID=America/Chicago:20270315T000000
DTEND;TZID=America/Chicago:20270315T235959
DTSTAMP:20260423T090346
CREATED:20240809T184611Z
LAST-MODIFIED:20240815T195418Z
UID:10002751-1805068800-1805155199@immanuellutheranbrownton.org
SUMMARY:Pastor's Off
DESCRIPTION:
URL:https://immanuellutheranbrownton.org/event/pastors-off/2027-03-15/
END:VEVENT
BEGIN:VEVENT
DTSTART;TZID=America/Chicago:20270316T000000
DTEND;TZID=America/Chicago:20270316T235959
DTSTAMP:20260423T090346
CREATED:20240809T184416Z
LAST-MODIFIED:20240809T185716Z
UID:10002364-1805155200-1805241599@immanuellutheranbrownton.org
SUMMARY:Mona's Off
DESCRIPTION:
URL:https://immanuellutheranbrownton.org/event/monas-off/2027-03-16/
END:VEVENT
BEGIN:VEVENT
DTSTART;TZID=America/Chicago:20270316T000000
DTEND;TZID=America/Chicago:20270316T235959
DTSTAMP:20260423T090346
CREATED:20240809T190233Z
LAST-MODIFIED:20240815T201032Z
UID:10003037-1805155200-1805241599@immanuellutheranbrownton.org
SUMMARY:Brownton Shut-ins Visits
DESCRIPTION:
URL:https://immanuellutheranbrownton.org/event/brownton-shut-ins-visits/2027-03-16/
END:VEVENT
BEGIN:VEVENT
DTSTART;TZID=America/Chicago:20270317T133000
DTEND;TZID=America/Chicago:20270317T143000
DTSTAMP:20260423T090346
CREATED:20240816T145236Z
LAST-MODIFIED:20240816T145237Z
UID:10004015-1805290200-1805293800@immanuellutheranbrownton.org
SUMMARY:Afternoon Worship Service/Holy Communion
DESCRIPTION:
URL:https://immanuellutheranbrownton.org/event/afternoon-worship-service-holy-communion/2027-03-17/
END:VEVENT
BEGIN:VEVENT
DTSTART;TZID=America/Chicago:20270318T000000
DTEND;TZID=America/Chicago:20270318T235959
DTSTAMP:20260423T090346
CREATED:20240809T184416Z
LAST-MODIFIED:20240809T185716Z
UID:10002365-1805328000-1805414399@immanuellutheranbrownton.org
SUMMARY:Mona's Off
DESCRIPTION:
URL:https://immanuellutheranbrownton.org/event/monas-off/2027-03-18/
END:VEVENT
BEGIN:VEVENT
DTSTART;TZID=America/Chicago:20270319T090000
DTEND;TZID=America/Chicago:20270319T100000
DTSTAMP:20260423T090346
CREATED:20240809T184115Z
LAST-MODIFIED:20240809T190745Z
UID:10000400-1805446800-1805450400@immanuellutheranbrownton.org
SUMMARY:100 Bible Stories
DESCRIPTION:
URL:https://immanuellutheranbrownton.org/event/100-bible-stories/2027-03-19/
LOCATION:Online
END:VEVENT
BEGIN:VEVENT
DTSTART;TZID=America/Chicago:20270321T090000
DTEND;TZID=America/Chicago:20270321T100000
DTSTAMP:20260423T090346
CREATED:20240815T203937Z
LAST-MODIFIED:20240815T203938Z
UID:10003477-1805619600-1805623200@immanuellutheranbrownton.org
SUMMARY:Worship Service
DESCRIPTION:
URL:https://immanuellutheranbrownton.org/event/worship-service-3/2027-03-21/
END:VEVENT
BEGIN:VEVENT
DTSTART;TZID=America/Chicago:20270321T101500
DTEND;TZID=America/Chicago:20270321T110000
DTSTAMP:20260423T090346
CREATED:20240809T184216Z
LAST-MODIFIED:20250505T173107Z
UID:10000661-1805624100-1805626800@immanuellutheranbrownton.org
SUMMARY:Adult Bible Class
DESCRIPTION:
URL:https://immanuellutheranbrownton.org/event/bible-class/2027-03-21/
LOCATION:Immanuel Lutheran\, 700 Division St\, Brownton\, Minnesota\, 55312
END:VEVENT
BEGIN:VEVENT
DTSTART;TZID=America/Chicago:20270322T000000
DTEND;TZID=America/Chicago:20270322T235959
DTSTAMP:20260423T090346
CREATED:20240809T184611Z
LAST-MODIFIED:20240815T195418Z
UID:10002752-1805673600-1805759999@immanuellutheranbrownton.org
SUMMARY:Pastor's Off
DESCRIPTION:
URL:https://immanuellutheranbrownton.org/event/pastors-off/2027-03-22/
END:VEVENT
BEGIN:VEVENT
DTSTART;TZID=America/Chicago:20270323T000000
DTEND;TZID=America/Chicago:20270323T235959
DTSTAMP:20260423T090346
CREATED:20240809T184416Z
LAST-MODIFIED:20240809T185716Z
UID:10002366-1805760000-1805846399@immanuellutheranbrownton.org
SUMMARY:Mona's Off
DESCRIPTION:
URL:https://immanuellutheranbrownton.org/event/monas-off/2027-03-23/
END:VEVENT
BEGIN:VEVENT
DTSTART;TZID=America/Chicago:20270323T000000
DTEND;TZID=America/Chicago:20270323T235959
DTSTAMP:20260423T090346
CREATED:20240809T191157Z
LAST-MODIFIED:20240815T201540Z
UID:10003097-1805760000-1805846399@immanuellutheranbrownton.org
SUMMARY:Hutch Pines Visits
DESCRIPTION:
URL:https://immanuellutheranbrownton.org/event/hutch-pines-visits/2027-03-23/
END:VEVENT
BEGIN:VEVENT
DTSTART;TZID=America/Chicago:20270325T000000
DTEND;TZID=America/Chicago:20270325T235959
DTSTAMP:20260423T090346
CREATED:20240809T184416Z
LAST-MODIFIED:20240809T185716Z
UID:10002367-1805932800-1806019199@immanuellutheranbrownton.org
SUMMARY:Mona's Off
DESCRIPTION:
URL:https://immanuellutheranbrownton.org/event/monas-off/2027-03-25/
END:VEVENT
BEGIN:VEVENT
DTSTART;TZID=America/Chicago:20270326T090000
DTEND;TZID=America/Chicago:20270326T100000
DTSTAMP:20260423T090346
CREATED:20240809T184115Z
LAST-MODIFIED:20240809T190745Z
UID:10000401-1806051600-1806055200@immanuellutheranbrownton.org
SUMMARY:100 Bible Stories
DESCRIPTION:
URL:https://immanuellutheranbrownton.org/event/100-bible-stories/2027-03-26/
LOCATION:Online
END:VEVENT
BEGIN:VEVENT
DTSTART;TZID=America/Chicago:20270328T090000
DTEND;TZID=America/Chicago:20270328T100000
DTSTAMP:20260423T090346
CREATED:20250424T001633Z
LAST-MODIFIED:20250424T001642Z
UID:10000140-1806224400-1806228000@immanuellutheranbrownton.org
SUMMARY:Worship Service/Holy Communion
DESCRIPTION:
URL:https://immanuellutheranbrownton.org/event/worship-service-holy-communion-choir-singing-10/2027-03-28/
LOCATION:Immanuel Lutheran\, 700 Division St\, Brownton\, Minnesota\, 55312
END:VEVENT
BEGIN:VEVENT
DTSTART;TZID=America/Chicago:20270328T101500
DTEND;TZID=America/Chicago:20270328T110000
DTSTAMP:20260423T090346
CREATED:20240809T184216Z
LAST-MODIFIED:20250505T173107Z
UID:10000662-1806228900-1806231600@immanuellutheranbrownton.org
SUMMARY:Adult Bible Class
DESCRIPTION:
URL:https://immanuellutheranbrownton.org/event/bible-class/2027-03-28/
LOCATION:Immanuel Lutheran\, 700 Division St\, Brownton\, Minnesota\, 55312
END:VEVENT
BEGIN:VEVENT
DTSTART;TZID=America/Chicago:20270329T000000
DTEND;TZID=America/Chicago:20270329T235959
DTSTAMP:20260423T090347
CREATED:20240809T184611Z
LAST-MODIFIED:20240815T195418Z
UID:10002753-1806278400-1806364799@immanuellutheranbrownton.org
SUMMARY:Pastor's Off
DESCRIPTION:
URL:https://immanuellutheranbrownton.org/event/pastors-off/2027-03-29/
END:VEVENT
BEGIN:VEVENT
DTSTART;TZID=America/Chicago:20270330T000000
DTEND;TZID=America/Chicago:20270330T235959
DTSTAMP:20260423T090347
CREATED:20240809T184416Z
LAST-MODIFIED:20240809T185716Z
UID:10002368-1806364800-1806451199@immanuellutheranbrownton.org
SUMMARY:Mona's Off
DESCRIPTION:
URL:https://immanuellutheranbrownton.org/event/monas-off/2027-03-30/
END:VEVENT
BEGIN:VEVENT
DTSTART;TZID=America/Chicago:20270401T000000
DTEND;TZID=America/Chicago:20270401T235959
DTSTAMP:20260423T090347
CREATED:20240809T184416Z
LAST-MODIFIED:20240809T185716Z
UID:10002369-1806537600-1806623999@immanuellutheranbrownton.org
SUMMARY:Mona's Off
DESCRIPTION:
URL:https://immanuellutheranbrownton.org/event/monas-off/2027-04-01/
END:VEVENT
BEGIN:VEVENT
DTSTART;TZID=America/Chicago:20270401T080000
DTEND;TZID=America/Chicago:20270401T170000
DTSTAMP:20260423T090347
CREATED:20251212T164750Z
LAST-MODIFIED:20251212T164751Z
UID:10006189-1806566400-1806598800@immanuellutheranbrownton.org
SUMMARY:Glenfield Visits
DESCRIPTION:
URL:https://immanuellutheranbrownton.org/event/glenfield-visits/2027-04-01/
END:VEVENT
END:VCALENDAR