BEGIN:VCALENDAR
VERSION:2.0
PRODID:-//Immanuel Lutheran Church - ECPv6.15.20//NONSGML v1.0//EN
CALSCALE:GREGORIAN
METHOD:PUBLISH
X-ORIGINAL-URL:https://immanuellutheranbrownton.org
X-WR-CALDESC:Events for Immanuel Lutheran Church
REFRESH-INTERVAL;VALUE=DURATION:PT1H
X-Robots-Tag:noindex
X-PUBLISHED-TTL:PT1H
BEGIN:VTIMEZONE
TZID:America/Chicago
BEGIN:DAYLIGHT
TZOFFSETFROM:-0600
TZOFFSETTO:-0500
TZNAME:CDT
DTSTART:20250309T080000
END:DAYLIGHT
BEGIN:STANDARD
TZOFFSETFROM:-0500
TZOFFSETTO:-0600
TZNAME:CST
DTSTART:20251102T070000
END:STANDARD
BEGIN:DAYLIGHT
TZOFFSETFROM:-0600
TZOFFSETTO:-0500
TZNAME:CDT
DTSTART:20260308T080000
END:DAYLIGHT
BEGIN:STANDARD
TZOFFSETFROM:-0500
TZOFFSETTO:-0600
TZNAME:CST
DTSTART:20261101T070000
END:STANDARD
BEGIN:DAYLIGHT
TZOFFSETFROM:-0600
TZOFFSETTO:-0500
TZNAME:CDT
DTSTART:20270314T080000
END:DAYLIGHT
BEGIN:STANDARD
TZOFFSETFROM:-0500
TZOFFSETTO:-0600
TZNAME:CST
DTSTART:20271107T070000
END:STANDARD
END:VTIMEZONE
BEGIN:VEVENT
DTSTART;TZID=America/Chicago:20260717T090000
DTEND;TZID=America/Chicago:20260717T100000
DTSTAMP:20260422T164643
CREATED:20240809T184115Z
LAST-MODIFIED:20240809T190745Z
UID:10000365-1784278800-1784282400@immanuellutheranbrownton.org
SUMMARY:100 Bible Stories
DESCRIPTION:
URL:https://immanuellutheranbrownton.org/event/100-bible-stories/2026-07-17/
LOCATION:Online
END:VEVENT
BEGIN:VEVENT
DTSTART;TZID=America/Chicago:20260719T090000
DTEND;TZID=America/Chicago:20260719T100000
DTSTAMP:20260422T164643
CREATED:20240815T203937Z
LAST-MODIFIED:20240815T203938Z
UID:10003469-1784451600-1784455200@immanuellutheranbrownton.org
SUMMARY:Worship Service
DESCRIPTION:
URL:https://immanuellutheranbrownton.org/event/worship-service-3/2026-07-19/
END:VEVENT
BEGIN:VEVENT
DTSTART;TZID=America/Chicago:20260719T101500
DTEND;TZID=America/Chicago:20260719T110000
DTSTAMP:20260422T164643
CREATED:20240809T184216Z
LAST-MODIFIED:20250505T173107Z
UID:10000626-1784456100-1784458800@immanuellutheranbrownton.org
SUMMARY:Adult Bible Class
DESCRIPTION:
URL:https://immanuellutheranbrownton.org/event/bible-class/2026-07-19/
LOCATION:Immanuel Lutheran\, 700 Division St\, Brownton\, Minnesota\, 55312
END:VEVENT
BEGIN:VEVENT
DTSTART;TZID=America/Chicago:20260720T000000
DTEND;TZID=America/Chicago:20260720T235959
DTSTAMP:20260422T164643
CREATED:20240809T184611Z
LAST-MODIFIED:20240815T195418Z
UID:10002717-1784505600-1784591999@immanuellutheranbrownton.org
SUMMARY:Pastor's Off
DESCRIPTION:
URL:https://immanuellutheranbrownton.org/event/pastors-off/2026-07-20/
END:VEVENT
BEGIN:VEVENT
DTSTART;TZID=America/Chicago:20260721T000000
DTEND;TZID=America/Chicago:20260721T235959
DTSTAMP:20260422T164643
CREATED:20240809T184416Z
LAST-MODIFIED:20240809T185716Z
UID:10002296-1784592000-1784678399@immanuellutheranbrownton.org
SUMMARY:Mona's Off
DESCRIPTION:
URL:https://immanuellutheranbrownton.org/event/monas-off/2026-07-21/
END:VEVENT
BEGIN:VEVENT
DTSTART;TZID=America/Chicago:20260721T000000
DTEND;TZID=America/Chicago:20260721T235959
DTSTAMP:20260422T164643
CREATED:20240809T190233Z
LAST-MODIFIED:20240815T201032Z
UID:10003029-1784592000-1784678399@immanuellutheranbrownton.org
SUMMARY:Brownton Shut-ins Visits
DESCRIPTION:
URL:https://immanuellutheranbrownton.org/event/brownton-shut-ins-visits/2026-07-21/
END:VEVENT
BEGIN:VEVENT
DTSTART;TZID=America/Chicago:20260723T000000
DTEND;TZID=America/Chicago:20260723T235959
DTSTAMP:20260422T164643
CREATED:20240809T184416Z
LAST-MODIFIED:20240809T185716Z
UID:10002297-1784764800-1784851199@immanuellutheranbrownton.org
SUMMARY:Mona's Off
DESCRIPTION:
URL:https://immanuellutheranbrownton.org/event/monas-off/2026-07-23/
END:VEVENT
BEGIN:VEVENT
DTSTART;TZID=America/Chicago:20260724T090000
DTEND;TZID=America/Chicago:20260724T100000
DTSTAMP:20260422T164643
CREATED:20240809T184115Z
LAST-MODIFIED:20240809T190745Z
UID:10000366-1784883600-1784887200@immanuellutheranbrownton.org
SUMMARY:100 Bible Stories
DESCRIPTION:
URL:https://immanuellutheranbrownton.org/event/100-bible-stories/2026-07-24/
LOCATION:Online
END:VEVENT
BEGIN:VEVENT
DTSTART;TZID=America/Chicago:20260726T090000
DTEND;TZID=America/Chicago:20260726T100000
DTSTAMP:20260422T164643
CREATED:20250424T001633Z
LAST-MODIFIED:20250424T001642Z
UID:10000105-1785056400-1785060000@immanuellutheranbrownton.org
SUMMARY:Worship Service/Holy Communion
DESCRIPTION:
URL:https://immanuellutheranbrownton.org/event/worship-service-holy-communion-choir-singing-10/2026-07-26/
LOCATION:Immanuel Lutheran\, 700 Division St\, Brownton\, Minnesota\, 55312
END:VEVENT
BEGIN:VEVENT
DTSTART;TZID=America/Chicago:20260726T101500
DTEND;TZID=America/Chicago:20260726T110000
DTSTAMP:20260422T164643
CREATED:20240809T184216Z
LAST-MODIFIED:20250505T173107Z
UID:10000627-1785060900-1785063600@immanuellutheranbrownton.org
SUMMARY:Adult Bible Class
DESCRIPTION:
URL:https://immanuellutheranbrownton.org/event/bible-class/2026-07-26/
LOCATION:Immanuel Lutheran\, 700 Division St\, Brownton\, Minnesota\, 55312
END:VEVENT
BEGIN:VEVENT
DTSTART;TZID=America/Chicago:20260727T000000
DTEND;TZID=America/Chicago:20260727T235959
DTSTAMP:20260422T164643
CREATED:20240809T184611Z
LAST-MODIFIED:20240815T195418Z
UID:10002718-1785110400-1785196799@immanuellutheranbrownton.org
SUMMARY:Pastor's Off
DESCRIPTION:
URL:https://immanuellutheranbrownton.org/event/pastors-off/2026-07-27/
END:VEVENT
BEGIN:VEVENT
DTSTART;TZID=America/Chicago:20260728T000000
DTEND;TZID=America/Chicago:20260728T235959
DTSTAMP:20260422T164643
CREATED:20240809T184416Z
LAST-MODIFIED:20240809T185716Z
UID:10002298-1785196800-1785283199@immanuellutheranbrownton.org
SUMMARY:Mona's Off
DESCRIPTION:
URL:https://immanuellutheranbrownton.org/event/monas-off/2026-07-28/
END:VEVENT
BEGIN:VEVENT
DTSTART;TZID=America/Chicago:20260728T000000
DTEND;TZID=America/Chicago:20260728T235959
DTSTAMP:20260422T164643
CREATED:20240809T191157Z
LAST-MODIFIED:20240815T201540Z
UID:10003089-1785196800-1785283199@immanuellutheranbrownton.org
SUMMARY:Hutch Pines Visits
DESCRIPTION:
URL:https://immanuellutheranbrownton.org/event/hutch-pines-visits/2026-07-28/
END:VEVENT
BEGIN:VEVENT
DTSTART;TZID=America/Chicago:20260730T000000
DTEND;TZID=America/Chicago:20260730T235959
DTSTAMP:20260422T164643
CREATED:20240809T184416Z
LAST-MODIFIED:20240809T185716Z
UID:10002299-1785369600-1785455999@immanuellutheranbrownton.org
SUMMARY:Mona's Off
DESCRIPTION:
URL:https://immanuellutheranbrownton.org/event/monas-off/2026-07-30/
END:VEVENT
BEGIN:VEVENT
DTSTART;TZID=America/Chicago:20260731T090000
DTEND;TZID=America/Chicago:20260731T100000
DTSTAMP:20260422T164643
CREATED:20240809T184115Z
LAST-MODIFIED:20240809T190745Z
UID:10000367-1785488400-1785492000@immanuellutheranbrownton.org
SUMMARY:100 Bible Stories
DESCRIPTION:
URL:https://immanuellutheranbrownton.org/event/100-bible-stories/2026-07-31/
LOCATION:Online
END:VEVENT
BEGIN:VEVENT
DTSTART;TZID=America/Chicago:20260802T090000
DTEND;TZID=America/Chicago:20260802T100000
DTSTAMP:20260422T164643
CREATED:20240815T201901Z
LAST-MODIFIED:20240815T201955Z
UID:10003149-1785661200-1785664800@immanuellutheranbrownton.org
SUMMARY:Worship Service/Holy Communion
DESCRIPTION:
URL:https://immanuellutheranbrownton.org/event/worship-service-holy-communion/2026-08-02/
END:VEVENT
BEGIN:VEVENT
DTSTART;TZID=America/Chicago:20260802T101500
DTEND;TZID=America/Chicago:20260802T110000
DTSTAMP:20260422T164643
CREATED:20240809T184216Z
LAST-MODIFIED:20250505T173107Z
UID:10000628-1785665700-1785668400@immanuellutheranbrownton.org
SUMMARY:Adult Bible Class
DESCRIPTION:
URL:https://immanuellutheranbrownton.org/event/bible-class/2026-08-02/
LOCATION:Immanuel Lutheran\, 700 Division St\, Brownton\, Minnesota\, 55312
END:VEVENT
BEGIN:VEVENT
DTSTART;TZID=America/Chicago:20260803T000000
DTEND;TZID=America/Chicago:20260803T235959
DTSTAMP:20260422T164643
CREATED:20240809T184611Z
LAST-MODIFIED:20240815T195418Z
UID:10002719-1785715200-1785801599@immanuellutheranbrownton.org
SUMMARY:Pastor's Off
DESCRIPTION:
URL:https://immanuellutheranbrownton.org/event/pastors-off/2026-08-03/
END:VEVENT
BEGIN:VEVENT
DTSTART;TZID=America/Chicago:20260804T000000
DTEND;TZID=America/Chicago:20260804T235959
DTSTAMP:20260422T164643
CREATED:20240809T184416Z
LAST-MODIFIED:20240809T185716Z
UID:10002300-1785801600-1785887999@immanuellutheranbrownton.org
SUMMARY:Mona's Off
DESCRIPTION:
URL:https://immanuellutheranbrownton.org/event/monas-off/2026-08-04/
END:VEVENT
BEGIN:VEVENT
DTSTART;TZID=America/Chicago:20260804T000000
DTEND;TZID=America/Chicago:20260804T235959
DTSTAMP:20260422T164643
CREATED:20250804T164934Z
LAST-MODIFIED:20250804T164935Z
UID:10005729-1785801600-1785887999@immanuellutheranbrownton.org
SUMMARY:Noah's Ark Preschool Fundraiser at BBG
DESCRIPTION:
URL:https://immanuellutheranbrownton.org/event/noahs-ark-preschool-fundraiser-at-bbg-3/2026-08-04/
END:VEVENT
BEGIN:VEVENT
DTSTART;TZID=America/Chicago:20260804T080000
DTEND;TZID=America/Chicago:20260804T170000
DTSTAMP:20260422T164643
CREATED:20251212T164920Z
LAST-MODIFIED:20251212T164921Z
UID:10006240-1785830400-1785862800@immanuellutheranbrownton.org
SUMMARY:Grand Meadows Visits
DESCRIPTION:
URL:https://immanuellutheranbrownton.org/event/grand-meadows-visits-4/2026-08-04/
END:VEVENT
BEGIN:VEVENT
DTSTART;TZID=America/Chicago:20260804T183000
DTEND;TZID=America/Chicago:20260804T193000
DTSTAMP:20260422T164643
CREATED:20250611T150524Z
LAST-MODIFIED:20250611T151927Z
UID:10005514-1785868200-1785871800@immanuellutheranbrownton.org
SUMMARY:Deacon's Meeting
DESCRIPTION:
URL:https://immanuellutheranbrownton.org/event/deacons-meeting/2026-08-04/
END:VEVENT
BEGIN:VEVENT
DTSTART;TZID=America/Chicago:20260806T000000
DTEND;TZID=America/Chicago:20260806T235959
DTSTAMP:20260422T164643
CREATED:20240809T184416Z
LAST-MODIFIED:20240809T185716Z
UID:10002301-1785974400-1786060799@immanuellutheranbrownton.org
SUMMARY:Mona's Off
DESCRIPTION:
URL:https://immanuellutheranbrownton.org/event/monas-off/2026-08-06/
END:VEVENT
BEGIN:VEVENT
DTSTART;TZID=America/Chicago:20260806T080000
DTEND;TZID=America/Chicago:20260806T170000
DTSTAMP:20260422T164643
CREATED:20251212T164750Z
LAST-MODIFIED:20251212T164751Z
UID:10006181-1786003200-1786035600@immanuellutheranbrownton.org
SUMMARY:Glenfield Visits
DESCRIPTION:
URL:https://immanuellutheranbrownton.org/event/glenfield-visits/2026-08-06/
END:VEVENT
BEGIN:VEVENT
DTSTART;TZID=America/Chicago:20260807T090000
DTEND;TZID=America/Chicago:20260807T100000
DTSTAMP:20260422T164643
CREATED:20240809T184115Z
LAST-MODIFIED:20240809T190745Z
UID:10000368-1786093200-1786096800@immanuellutheranbrownton.org
SUMMARY:100 Bible Stories
DESCRIPTION:
URL:https://immanuellutheranbrownton.org/event/100-bible-stories/2026-08-07/
LOCATION:Online
END:VEVENT
BEGIN:VEVENT
DTSTART;TZID=America/Chicago:20260807T133000
DTEND;TZID=America/Chicago:20260807T143000
DTSTAMP:20260422T164643
CREATED:20240816T150334Z
LAST-MODIFIED:20240821T190655Z
UID:10004586-1786109400-1786113000@immanuellutheranbrownton.org
SUMMARY:Ladies Aid Meeting
DESCRIPTION:
URL:https://immanuellutheranbrownton.org/event/ladies-aid-meeting/2026-08-07/
END:VEVENT
BEGIN:VEVENT
DTSTART;TZID=America/Chicago:20260809T093000
DTEND;TZID=America/Chicago:20260809T100000
DTSTAMP:20260422T164643
CREATED:20240816T160155Z
LAST-MODIFIED:20240816T160156Z
UID:10004138-1786267800-1786269600@immanuellutheranbrownton.org
SUMMARY:Worship Service
DESCRIPTION:
URL:https://immanuellutheranbrownton.org/event/worship-service-7/2026-08-09/
END:VEVENT
BEGIN:VEVENT
DTSTART;TZID=America/Chicago:20260809T101500
DTEND;TZID=America/Chicago:20260809T110000
DTSTAMP:20260422T164643
CREATED:20240809T184216Z
LAST-MODIFIED:20250505T173107Z
UID:10000629-1786270500-1786273200@immanuellutheranbrownton.org
SUMMARY:Adult Bible Class
DESCRIPTION:
URL:https://immanuellutheranbrownton.org/event/bible-class/2026-08-09/
LOCATION:Immanuel Lutheran\, 700 Division St\, Brownton\, Minnesota\, 55312
END:VEVENT
BEGIN:VEVENT
DTSTART;TZID=America/Chicago:20260810T000000
DTEND;TZID=America/Chicago:20260810T235959
DTSTAMP:20260422T164643
CREATED:20240809T184611Z
LAST-MODIFIED:20240815T195418Z
UID:10002720-1786320000-1786406399@immanuellutheranbrownton.org
SUMMARY:Pastor's Off
DESCRIPTION:
URL:https://immanuellutheranbrownton.org/event/pastors-off/2026-08-10/
END:VEVENT
BEGIN:VEVENT
DTSTART;TZID=America/Chicago:20260811T000000
DTEND;TZID=America/Chicago:20260811T235959
DTSTAMP:20260422T164643
CREATED:20240809T184416Z
LAST-MODIFIED:20240809T185716Z
UID:10002302-1786406400-1786492799@immanuellutheranbrownton.org
SUMMARY:Mona's Off
DESCRIPTION:
URL:https://immanuellutheranbrownton.org/event/monas-off/2026-08-11/
END:VEVENT
END:VCALENDAR