BEGIN:VCALENDAR
VERSION:2.0
PRODID:-//Immanuel Lutheran Church - ECPv6.15.17.1//NONSGML v1.0//EN
CALSCALE:GREGORIAN
METHOD:PUBLISH
X-ORIGINAL-URL:https://immanuellutheranbrownton.org
X-WR-CALDESC:Events for Immanuel Lutheran Church
REFRESH-INTERVAL;VALUE=DURATION:PT1H
X-Robots-Tag:noindex
X-PUBLISHED-TTL:PT1H
BEGIN:VTIMEZONE
TZID:America/Chicago
BEGIN:DAYLIGHT
TZOFFSETFROM:-0600
TZOFFSETTO:-0500
TZNAME:CDT
DTSTART:20250309T080000
END:DAYLIGHT
BEGIN:STANDARD
TZOFFSETFROM:-0500
TZOFFSETTO:-0600
TZNAME:CST
DTSTART:20251102T070000
END:STANDARD
BEGIN:DAYLIGHT
TZOFFSETFROM:-0600
TZOFFSETTO:-0500
TZNAME:CDT
DTSTART:20260308T080000
END:DAYLIGHT
BEGIN:STANDARD
TZOFFSETFROM:-0500
TZOFFSETTO:-0600
TZNAME:CST
DTSTART:20261101T070000
END:STANDARD
BEGIN:DAYLIGHT
TZOFFSETFROM:-0600
TZOFFSETTO:-0500
TZNAME:CDT
DTSTART:20270314T080000
END:DAYLIGHT
BEGIN:STANDARD
TZOFFSETFROM:-0500
TZOFFSETTO:-0600
TZNAME:CST
DTSTART:20271107T070000
END:STANDARD
END:VTIMEZONE
BEGIN:VEVENT
DTSTART;TZID=America/Chicago:20261201T080000
DTEND;TZID=America/Chicago:20261201T170000
DTSTAMP:20260419T075056
CREATED:20251212T164920Z
LAST-MODIFIED:20251212T164921Z
UID:10006244-1796112000-1796144400@immanuellutheranbrownton.org
SUMMARY:Grand Meadows Visits
DESCRIPTION:
URL:https://immanuellutheranbrownton.org/event/grand-meadows-visits-4/2026-12-01/
END:VEVENT
BEGIN:VEVENT
DTSTART;TZID=America/Chicago:20261201T183000
DTEND;TZID=America/Chicago:20261201T193000
DTSTAMP:20260419T075056
CREATED:20250611T150524Z
LAST-MODIFIED:20250611T151927Z
UID:10005518-1796149800-1796153400@immanuellutheranbrownton.org
SUMMARY:Deacon's Meeting
DESCRIPTION:
URL:https://immanuellutheranbrownton.org/event/deacons-meeting/2026-12-01/
END:VEVENT
BEGIN:VEVENT
DTSTART;TZID=America/Chicago:20261203T000000
DTEND;TZID=America/Chicago:20261203T235959
DTSTAMP:20260419T075056
CREATED:20240809T184416Z
LAST-MODIFIED:20240809T185716Z
UID:10002335-1796256000-1796342399@immanuellutheranbrownton.org
SUMMARY:Mona's Off
DESCRIPTION:
URL:https://immanuellutheranbrownton.org/event/monas-off/2026-12-03/
END:VEVENT
BEGIN:VEVENT
DTSTART;TZID=America/Chicago:20261203T080000
DTEND;TZID=America/Chicago:20261203T170000
DTSTAMP:20260419T075056
CREATED:20251212T164750Z
LAST-MODIFIED:20251212T164751Z
UID:10006185-1796284800-1796317200@immanuellutheranbrownton.org
SUMMARY:Glenfield Visits
DESCRIPTION:
URL:https://immanuellutheranbrownton.org/event/glenfield-visits/2026-12-03/
END:VEVENT
BEGIN:VEVENT
DTSTART;TZID=America/Chicago:20261204T090000
DTEND;TZID=America/Chicago:20261204T100000
DTSTAMP:20260419T075056
CREATED:20240809T184115Z
LAST-MODIFIED:20240809T190745Z
UID:10000385-1796374800-1796378400@immanuellutheranbrownton.org
SUMMARY:100 Bible Stories
DESCRIPTION:
URL:https://immanuellutheranbrownton.org/event/100-bible-stories/2026-12-04/
LOCATION:Online
END:VEVENT
BEGIN:VEVENT
DTSTART;TZID=America/Chicago:20261204T133000
DTEND;TZID=America/Chicago:20261204T143000
DTSTAMP:20260419T075056
CREATED:20240816T150334Z
LAST-MODIFIED:20240821T190655Z
UID:10004590-1796391000-1796394600@immanuellutheranbrownton.org
SUMMARY:Ladies Aid Meeting
DESCRIPTION:
URL:https://immanuellutheranbrownton.org/event/ladies-aid-meeting/2026-12-04/
END:VEVENT
BEGIN:VEVENT
DTSTART;TZID=America/Chicago:20261206T090000
DTEND;TZID=America/Chicago:20261206T100000
DTSTAMP:20260419T075056
CREATED:20240815T201901Z
LAST-MODIFIED:20240815T201955Z
UID:10003153-1796547600-1796551200@immanuellutheranbrownton.org
SUMMARY:Worship Service/Holy Communion
DESCRIPTION:
URL:https://immanuellutheranbrownton.org/event/worship-service-holy-communion/2026-12-06/
END:VEVENT
BEGIN:VEVENT
DTSTART;TZID=America/Chicago:20261206T101500
DTEND;TZID=America/Chicago:20261206T110000
DTSTAMP:20260419T075056
CREATED:20240809T184216Z
LAST-MODIFIED:20250505T173107Z
UID:10000646-1796552100-1796554800@immanuellutheranbrownton.org
SUMMARY:Adult Bible Class
DESCRIPTION:
URL:https://immanuellutheranbrownton.org/event/bible-class/2026-12-06/
LOCATION:Immanuel Lutheran\, 700 Division St\, Brownton\, Minnesota\, 55312
END:VEVENT
BEGIN:VEVENT
DTSTART;TZID=America/Chicago:20261207T000000
DTEND;TZID=America/Chicago:20261207T235959
DTSTAMP:20260419T075056
CREATED:20240809T184611Z
LAST-MODIFIED:20240815T195418Z
UID:10002737-1796601600-1796687999@immanuellutheranbrownton.org
SUMMARY:Pastor's Off
DESCRIPTION:
URL:https://immanuellutheranbrownton.org/event/pastors-off/2026-12-07/
END:VEVENT
BEGIN:VEVENT
DTSTART;TZID=America/Chicago:20261208T000000
DTEND;TZID=America/Chicago:20261208T235959
DTSTAMP:20260419T075056
CREATED:20240809T184416Z
LAST-MODIFIED:20240809T185716Z
UID:10002336-1796688000-1796774399@immanuellutheranbrownton.org
SUMMARY:Mona's Off
DESCRIPTION:
URL:https://immanuellutheranbrownton.org/event/monas-off/2026-12-08/
END:VEVENT
BEGIN:VEVENT
DTSTART;TZID=America/Chicago:20261208T080000
DTEND;TZID=America/Chicago:20261208T170000
DTSTAMP:20260419T075056
CREATED:20251212T165009Z
LAST-MODIFIED:20251212T165011Z
UID:10006303-1796716800-1796749200@immanuellutheranbrownton.org
SUMMARY:Harmony River Visits
DESCRIPTION:
URL:https://immanuellutheranbrownton.org/event/harmony-river-visits-4/2026-12-08/
END:VEVENT
BEGIN:VEVENT
DTSTART;TZID=America/Chicago:20261210T000000
DTEND;TZID=America/Chicago:20261210T235959
DTSTAMP:20260419T075056
CREATED:20240809T184416Z
LAST-MODIFIED:20240809T185716Z
UID:10002337-1796860800-1796947199@immanuellutheranbrownton.org
SUMMARY:Mona's Off
DESCRIPTION:
URL:https://immanuellutheranbrownton.org/event/monas-off/2026-12-10/
END:VEVENT
BEGIN:VEVENT
DTSTART;TZID=America/Chicago:20261211T090000
DTEND;TZID=America/Chicago:20261211T100000
DTSTAMP:20260419T075056
CREATED:20240809T184115Z
LAST-MODIFIED:20240809T190745Z
UID:10000386-1796979600-1796983200@immanuellutheranbrownton.org
SUMMARY:100 Bible Stories
DESCRIPTION:
URL:https://immanuellutheranbrownton.org/event/100-bible-stories/2026-12-11/
LOCATION:Online
END:VEVENT
BEGIN:VEVENT
DTSTART;TZID=America/Chicago:20261213T093000
DTEND;TZID=America/Chicago:20261213T100000
DTSTAMP:20260419T075056
CREATED:20240816T160155Z
LAST-MODIFIED:20240816T160156Z
UID:10004142-1797154200-1797156000@immanuellutheranbrownton.org
SUMMARY:Worship Service
DESCRIPTION:
URL:https://immanuellutheranbrownton.org/event/worship-service-7/2026-12-13/
END:VEVENT
BEGIN:VEVENT
DTSTART;TZID=America/Chicago:20261213T101500
DTEND;TZID=America/Chicago:20261213T110000
DTSTAMP:20260419T075056
CREATED:20240809T184216Z
LAST-MODIFIED:20250505T173107Z
UID:10000647-1797156900-1797159600@immanuellutheranbrownton.org
SUMMARY:Adult Bible Class
DESCRIPTION:
URL:https://immanuellutheranbrownton.org/event/bible-class/2026-12-13/
LOCATION:Immanuel Lutheran\, 700 Division St\, Brownton\, Minnesota\, 55312
END:VEVENT
BEGIN:VEVENT
DTSTART;TZID=America/Chicago:20261214T000000
DTEND;TZID=America/Chicago:20261214T235959
DTSTAMP:20260419T075056
CREATED:20240809T184611Z
LAST-MODIFIED:20240815T195418Z
UID:10002738-1797206400-1797292799@immanuellutheranbrownton.org
SUMMARY:Pastor's Off
DESCRIPTION:
URL:https://immanuellutheranbrownton.org/event/pastors-off/2026-12-14/
END:VEVENT
BEGIN:VEVENT
DTSTART;TZID=America/Chicago:20261215T000000
DTEND;TZID=America/Chicago:20261215T235959
DTSTAMP:20260419T075056
CREATED:20240809T184416Z
LAST-MODIFIED:20240809T185716Z
UID:10002338-1797292800-1797379199@immanuellutheranbrownton.org
SUMMARY:Mona's Off
DESCRIPTION:
URL:https://immanuellutheranbrownton.org/event/monas-off/2026-12-15/
END:VEVENT
BEGIN:VEVENT
DTSTART;TZID=America/Chicago:20261215T000000
DTEND;TZID=America/Chicago:20261215T235959
DTSTAMP:20260419T075056
CREATED:20240809T190233Z
LAST-MODIFIED:20240815T201032Z
UID:10003034-1797292800-1797379199@immanuellutheranbrownton.org
SUMMARY:Brownton Shut-ins Visits
DESCRIPTION:
URL:https://immanuellutheranbrownton.org/event/brownton-shut-ins-visits/2026-12-15/
END:VEVENT
BEGIN:VEVENT
DTSTART;TZID=America/Chicago:20261216T133000
DTEND;TZID=America/Chicago:20261216T143000
DTSTAMP:20260419T075056
CREATED:20240816T145236Z
LAST-MODIFIED:20240816T145237Z
UID:10004012-1797427800-1797431400@immanuellutheranbrownton.org
SUMMARY:Afternoon Worship Service/Holy Communion
DESCRIPTION:
URL:https://immanuellutheranbrownton.org/event/afternoon-worship-service-holy-communion/2026-12-16/
END:VEVENT
BEGIN:VEVENT
DTSTART;TZID=America/Chicago:20261217T000000
DTEND;TZID=America/Chicago:20261217T235959
DTSTAMP:20260419T075056
CREATED:20240809T184416Z
LAST-MODIFIED:20240809T185716Z
UID:10002339-1797465600-1797551999@immanuellutheranbrownton.org
SUMMARY:Mona's Off
DESCRIPTION:
URL:https://immanuellutheranbrownton.org/event/monas-off/2026-12-17/
END:VEVENT
BEGIN:VEVENT
DTSTART;TZID=America/Chicago:20261218T090000
DTEND;TZID=America/Chicago:20261218T100000
DTSTAMP:20260419T075056
CREATED:20240809T184115Z
LAST-MODIFIED:20240809T190745Z
UID:10000387-1797584400-1797588000@immanuellutheranbrownton.org
SUMMARY:100 Bible Stories
DESCRIPTION:
URL:https://immanuellutheranbrownton.org/event/100-bible-stories/2026-12-18/
LOCATION:Online
END:VEVENT
BEGIN:VEVENT
DTSTART;TZID=America/Chicago:20261220T090000
DTEND;TZID=America/Chicago:20261220T100000
DTSTAMP:20260419T075056
CREATED:20240815T203937Z
LAST-MODIFIED:20240815T203938Z
UID:10003474-1797757200-1797760800@immanuellutheranbrownton.org
SUMMARY:Worship Service
DESCRIPTION:
URL:https://immanuellutheranbrownton.org/event/worship-service-3/2026-12-20/
END:VEVENT
BEGIN:VEVENT
DTSTART;TZID=America/Chicago:20261220T101500
DTEND;TZID=America/Chicago:20261220T110000
DTSTAMP:20260419T075056
CREATED:20240809T184216Z
LAST-MODIFIED:20250505T173107Z
UID:10000648-1797761700-1797764400@immanuellutheranbrownton.org
SUMMARY:Adult Bible Class
DESCRIPTION:
URL:https://immanuellutheranbrownton.org/event/bible-class/2026-12-20/
LOCATION:Immanuel Lutheran\, 700 Division St\, Brownton\, Minnesota\, 55312
END:VEVENT
BEGIN:VEVENT
DTSTART;TZID=America/Chicago:20261221T000000
DTEND;TZID=America/Chicago:20261221T235959
DTSTAMP:20260419T075056
CREATED:20240809T184611Z
LAST-MODIFIED:20240815T195418Z
UID:10002739-1797811200-1797897599@immanuellutheranbrownton.org
SUMMARY:Pastor's Off
DESCRIPTION:
URL:https://immanuellutheranbrownton.org/event/pastors-off/2026-12-21/
END:VEVENT
BEGIN:VEVENT
DTSTART;TZID=America/Chicago:20261222T000000
DTEND;TZID=America/Chicago:20261222T235959
DTSTAMP:20260419T075056
CREATED:20240809T184416Z
LAST-MODIFIED:20240809T185716Z
UID:10002340-1797897600-1797983999@immanuellutheranbrownton.org
SUMMARY:Mona's Off
DESCRIPTION:
URL:https://immanuellutheranbrownton.org/event/monas-off/2026-12-22/
END:VEVENT
BEGIN:VEVENT
DTSTART;TZID=America/Chicago:20261222T000000
DTEND;TZID=America/Chicago:20261222T235959
DTSTAMP:20260419T075056
CREATED:20240809T191157Z
LAST-MODIFIED:20240815T201540Z
UID:10003094-1797897600-1797983999@immanuellutheranbrownton.org
SUMMARY:Hutch Pines Visits
DESCRIPTION:
URL:https://immanuellutheranbrownton.org/event/hutch-pines-visits/2026-12-22/
END:VEVENT
BEGIN:VEVENT
DTSTART;TZID=America/Chicago:20261224T000000
DTEND;TZID=America/Chicago:20261224T235959
DTSTAMP:20260419T075056
CREATED:20240809T184416Z
LAST-MODIFIED:20240809T185716Z
UID:10002341-1798070400-1798156799@immanuellutheranbrownton.org
SUMMARY:Mona's Off
DESCRIPTION:
URL:https://immanuellutheranbrownton.org/event/monas-off/2026-12-24/
END:VEVENT
BEGIN:VEVENT
DTSTART;TZID=America/Chicago:20261225T090000
DTEND;TZID=America/Chicago:20261225T100000
DTSTAMP:20260419T075056
CREATED:20240809T184115Z
LAST-MODIFIED:20240809T190745Z
UID:10000388-1798189200-1798192800@immanuellutheranbrownton.org
SUMMARY:100 Bible Stories
DESCRIPTION:
URL:https://immanuellutheranbrownton.org/event/100-bible-stories/2026-12-25/
LOCATION:Online
END:VEVENT
BEGIN:VEVENT
DTSTART;TZID=America/Chicago:20261227T090000
DTEND;TZID=America/Chicago:20261227T100000
DTSTAMP:20260419T075056
CREATED:20250424T001633Z
LAST-MODIFIED:20250424T001642Z
UID:10000127-1798362000-1798365600@immanuellutheranbrownton.org
SUMMARY:Worship Service/Holy Communion
DESCRIPTION:
URL:https://immanuellutheranbrownton.org/event/worship-service-holy-communion-choir-singing-10/2026-12-27/
LOCATION:Immanuel Lutheran\, 700 Division St\, Brownton\, Minnesota\, 55312
END:VEVENT
BEGIN:VEVENT
DTSTART;TZID=America/Chicago:20261227T101500
DTEND;TZID=America/Chicago:20261227T110000
DTSTAMP:20260419T075057
CREATED:20240809T184216Z
LAST-MODIFIED:20250505T173107Z
UID:10000649-1798366500-1798369200@immanuellutheranbrownton.org
SUMMARY:Adult Bible Class
DESCRIPTION:
URL:https://immanuellutheranbrownton.org/event/bible-class/2026-12-27/
LOCATION:Immanuel Lutheran\, 700 Division St\, Brownton\, Minnesota\, 55312
END:VEVENT
END:VCALENDAR