BEGIN:VCALENDAR
VERSION:2.0
PRODID:-//Immanuel Lutheran Church - ECPv6.15.17.1//NONSGML v1.0//EN
CALSCALE:GREGORIAN
METHOD:PUBLISH
X-ORIGINAL-URL:https://immanuellutheranbrownton.org
X-WR-CALDESC:Events for Immanuel Lutheran Church
REFRESH-INTERVAL;VALUE=DURATION:PT1H
X-Robots-Tag:noindex
X-PUBLISHED-TTL:PT1H
BEGIN:VTIMEZONE
TZID:America/Chicago
BEGIN:DAYLIGHT
TZOFFSETFROM:-0600
TZOFFSETTO:-0500
TZNAME:CDT
DTSTART:20240310T080000
END:DAYLIGHT
BEGIN:STANDARD
TZOFFSETFROM:-0500
TZOFFSETTO:-0600
TZNAME:CST
DTSTART:20241103T070000
END:STANDARD
BEGIN:DAYLIGHT
TZOFFSETFROM:-0600
TZOFFSETTO:-0500
TZNAME:CDT
DTSTART:20250309T080000
END:DAYLIGHT
BEGIN:STANDARD
TZOFFSETFROM:-0500
TZOFFSETTO:-0600
TZNAME:CST
DTSTART:20251102T070000
END:STANDARD
BEGIN:DAYLIGHT
TZOFFSETFROM:-0600
TZOFFSETTO:-0500
TZNAME:CDT
DTSTART:20260308T080000
END:DAYLIGHT
BEGIN:STANDARD
TZOFFSETFROM:-0500
TZOFFSETTO:-0600
TZNAME:CST
DTSTART:20261101T070000
END:STANDARD
END:VTIMEZONE
BEGIN:VEVENT
DTSTART;TZID=America/Chicago:20251123T090000
DTEND;TZID=America/Chicago:20251123T100000
DTSTAMP:20260419T180708
CREATED:20250908T172953Z
LAST-MODIFIED:20250908T172959Z
UID:10000070-1763888400-1763892000@immanuellutheranbrownton.org
SUMMARY:Worship Service
DESCRIPTION:
URL:https://immanuellutheranbrownton.org/event/worship-service-holy-communion-17/
LOCATION:Immanuel Lutheran\, 700 Division St\, Brownton\, Minnesota\, 55312
END:VEVENT
BEGIN:VEVENT
DTSTART;TZID=America/Chicago:20251123T100000
DTEND;TZID=America/Chicago:20251123T110000
DTSTAMP:20260419T180708
CREATED:20250912T153553Z
LAST-MODIFIED:20250912T153555Z
UID:10005997-1763892000-1763895600@immanuellutheranbrownton.org
SUMMARY:Sunday School Class
DESCRIPTION:
URL:https://immanuellutheranbrownton.org/event/sunday-school-class-4/2025-11-23/
END:VEVENT
BEGIN:VEVENT
DTSTART;TZID=America/Chicago:20251123T101500
DTEND;TZID=America/Chicago:20251123T110000
DTSTAMP:20260419T180708
CREATED:20240809T184216Z
LAST-MODIFIED:20250505T173107Z
UID:10000592-1763892900-1763895600@immanuellutheranbrownton.org
SUMMARY:Adult Bible Class
DESCRIPTION:
URL:https://immanuellutheranbrownton.org/event/bible-class/2025-11-23/
LOCATION:Immanuel Lutheran\, 700 Division St\, Brownton\, Minnesota\, 55312
END:VEVENT
BEGIN:VEVENT
DTSTART;TZID=America/Chicago:20251123T101500
DTEND;TZID=America/Chicago:20251123T110000
DTSTAMP:20260419T180708
CREATED:20251119T150837Z
LAST-MODIFIED:20251119T150838Z
UID:10006109-1763892900-1763895600@immanuellutheranbrownton.org
SUMMARY:Bell Choir Practice
DESCRIPTION:
URL:https://immanuellutheranbrownton.org/event/bell-choir-practice-2/
END:VEVENT
BEGIN:VEVENT
DTSTART;TZID=America/Chicago:20251123T140000
DTEND;TZID=America/Chicago:20251123T160000
DTSTAMP:20260419T180708
CREATED:20251029T163516Z
LAST-MODIFIED:20251029T163517Z
UID:10006069-1763906400-1763913600@immanuellutheranbrownton.org
SUMMARY:Noah's Ark Preschool Advent Festival
DESCRIPTION:Will be at the Brownton Civic Center ( Old Gym )
URL:https://immanuellutheranbrownton.org/event/noahs-ark-preschool-advent-festival/
END:VEVENT
BEGIN:VEVENT
DTSTART;TZID=America/Chicago:20251124T000000
DTEND;TZID=America/Chicago:20251124T235959
DTSTAMP:20260419T180708
CREATED:20240809T184611Z
LAST-MODIFIED:20240815T195418Z
UID:10002683-1763942400-1764028799@immanuellutheranbrownton.org
SUMMARY:Pastor's Off
DESCRIPTION:
URL:https://immanuellutheranbrownton.org/event/pastors-off/2025-11-24/
END:VEVENT
BEGIN:VEVENT
DTSTART;TZID=America/Chicago:20251125T000000
DTEND;TZID=America/Chicago:20251125T235959
DTSTAMP:20260419T180708
CREATED:20240809T184416Z
LAST-MODIFIED:20240809T185716Z
UID:10002228-1764028800-1764115199@immanuellutheranbrownton.org
SUMMARY:Mona's Off
DESCRIPTION:
URL:https://immanuellutheranbrownton.org/event/monas-off/2025-11-25/
END:VEVENT
BEGIN:VEVENT
DTSTART;TZID=America/Chicago:20251125T000000
DTEND;TZID=America/Chicago:20251125T235959
DTSTAMP:20260419T180708
CREATED:20240809T191157Z
LAST-MODIFIED:20240815T201540Z
UID:10003081-1764028800-1764115199@immanuellutheranbrownton.org
SUMMARY:Hutch Pines Visits
DESCRIPTION:
URL:https://immanuellutheranbrownton.org/event/hutch-pines-visits/2025-11-25/
END:VEVENT
BEGIN:VEVENT
DTSTART;TZID=America/Chicago:20251126T090000
DTEND;TZID=America/Chicago:20251126T100000
DTSTAMP:20260419T180708
CREATED:20250625T153124Z
LAST-MODIFIED:20250625T153125Z
UID:10005589-1764147600-1764151200@immanuellutheranbrownton.org
SUMMARY:NO Bible Class
DESCRIPTION:
URL:https://immanuellutheranbrownton.org/event/no-bible-class-23/
END:VEVENT
BEGIN:VEVENT
DTSTART;TZID=America/Chicago:20251126T180000
DTEND;TZID=America/Chicago:20251126T191500
DTSTAMP:20260419T180708
CREATED:20250730T165103Z
LAST-MODIFIED:20250730T165104Z
UID:10005678-1764180000-1764184500@immanuellutheranbrownton.org
SUMMARY:NO Confirmation Class
DESCRIPTION:
URL:https://immanuellutheranbrownton.org/event/no-confirmation-class-3/
END:VEVENT
BEGIN:VEVENT
DTSTART;TZID=America/Chicago:20251127T000000
DTEND;TZID=America/Chicago:20251127T235959
DTSTAMP:20260419T180708
CREATED:20240809T184416Z
LAST-MODIFIED:20240809T185716Z
UID:10002229-1764201600-1764287999@immanuellutheranbrownton.org
SUMMARY:Mona's Off
DESCRIPTION:
URL:https://immanuellutheranbrownton.org/event/monas-off/2025-11-27/
END:VEVENT
BEGIN:VEVENT
DTSTART;TZID=America/Chicago:20251127T000000
DTEND;TZID=America/Chicago:20251127T235959
DTSTAMP:20260419T180708
CREATED:20250912T154635Z
LAST-MODIFIED:20250912T154636Z
UID:10006007-1764201600-1764287999@immanuellutheranbrownton.org
SUMMARY:Thanksgiving Day
DESCRIPTION:
URL:https://immanuellutheranbrownton.org/event/thanksgiving-day-2/
END:VEVENT
BEGIN:VEVENT
DTSTART;TZID=America/Chicago:20251127T082500
DTEND;TZID=America/Chicago:20251127T210000
DTSTAMP:20260419T180708
CREATED:20251119T151013Z
LAST-MODIFIED:20251119T151014Z
UID:10006110-1764231900-1764277200@immanuellutheranbrownton.org
SUMMARY:Bell Choir Warming Up
DESCRIPTION:
URL:https://immanuellutheranbrownton.org/event/bell-choir-warming-up/
END:VEVENT
BEGIN:VEVENT
DTSTART;TZID=America/Chicago:20251127T083000
DTEND;TZID=America/Chicago:20251127T090000
DTSTAMP:20260419T180708
CREATED:20251117T235718Z
LAST-MODIFIED:20251117T235719Z
UID:10006106-1764232200-1764234000@immanuellutheranbrownton.org
SUMMARY:Choir Practice
DESCRIPTION:
URL:https://immanuellutheranbrownton.org/event/choir-practice-4/
END:VEVENT
BEGIN:VEVENT
DTSTART;TZID=America/Chicago:20251127T090000
DTEND;TZID=America/Chicago:20251127T100000
DTSTAMP:20260419T180708
CREATED:20250908T172737Z
LAST-MODIFIED:20251029T163658Z
UID:10005961-1764234000-1764237600@immanuellutheranbrownton.org
SUMMARY:Thanksgiving Service | Holy Communion | Choir Singing | Bell Choir Performing
DESCRIPTION:
URL:https://immanuellutheranbrownton.org/event/thanksgiving-service-holy-communion-2/
END:VEVENT
BEGIN:VEVENT
DTSTART;TZID=America/Chicago:20251128T090000
DTEND;TZID=America/Chicago:20251128T093000
DTSTAMP:20260419T180708
CREATED:20250912T155015Z
LAST-MODIFIED:20250912T155016Z
UID:10006008-1764320400-1764322200@immanuellutheranbrownton.org
SUMMARY:NO 100 Bible Stories
DESCRIPTION:
URL:https://immanuellutheranbrownton.org/event/no-100-bible-stories-9/
END:VEVENT
BEGIN:VEVENT
DTSTART;TZID=America/Chicago:20251130T000000
DTEND;TZID=America/Chicago:20251130T235959
DTSTAMP:20260419T180708
CREATED:20250912T155140Z
LAST-MODIFIED:20250912T155141Z
UID:10006009-1764460800-1764547199@immanuellutheranbrownton.org
SUMMARY:1st Sunday in Advent
DESCRIPTION:
URL:https://immanuellutheranbrownton.org/event/1st-sunday-in-advent/
END:VEVENT
BEGIN:VEVENT
DTSTART;TZID=America/Chicago:20251130T090000
DTEND;TZID=America/Chicago:20251130T101500
DTSTAMP:20260419T180708
CREATED:20250908T173146Z
LAST-MODIFIED:20250912T155234Z
UID:10005965-1764493200-1764497700@immanuellutheranbrownton.org
SUMMARY:Worship Service | Holy Communion
DESCRIPTION:First Sunday in Advent
URL:https://immanuellutheranbrownton.org/event/worship-service-holy-communion-choir-singing-11/
END:VEVENT
BEGIN:VEVENT
DTSTART;TZID=America/Chicago:20251130T100000
DTEND;TZID=America/Chicago:20251130T110000
DTSTAMP:20260419T180708
CREATED:20250924T133348Z
LAST-MODIFIED:20250924T133349Z
UID:10005998-1764496800-1764500400@immanuellutheranbrownton.org
SUMMARY:Sunday School Class
DESCRIPTION:Christmas Program Practice Begins
URL:https://immanuellutheranbrownton.org/event/sunday-school-class-5/
END:VEVENT
BEGIN:VEVENT
DTSTART;TZID=America/Chicago:20251130T101500
DTEND;TZID=America/Chicago:20251130T110000
DTSTAMP:20260419T180708
CREATED:20240809T184216Z
LAST-MODIFIED:20250505T173107Z
UID:10000593-1764497700-1764500400@immanuellutheranbrownton.org
SUMMARY:Adult Bible Class
DESCRIPTION:
URL:https://immanuellutheranbrownton.org/event/bible-class/2025-11-30/
LOCATION:Immanuel Lutheran\, 700 Division St\, Brownton\, Minnesota\, 55312
END:VEVENT
BEGIN:VEVENT
DTSTART;TZID=America/Chicago:20251201T000000
DTEND;TZID=America/Chicago:20251201T235959
DTSTAMP:20260419T180708
CREATED:20240809T184611Z
LAST-MODIFIED:20240815T195418Z
UID:10002684-1764547200-1764633599@immanuellutheranbrownton.org
SUMMARY:Pastor's Off
DESCRIPTION:
URL:https://immanuellutheranbrownton.org/event/pastors-off/2025-12-01/
END:VEVENT
BEGIN:VEVENT
DTSTART;TZID=America/Chicago:20251202T000000
DTEND;TZID=America/Chicago:20251202T235959
DTSTAMP:20260419T180708
CREATED:20240809T184416Z
LAST-MODIFIED:20240809T185716Z
UID:10002230-1764633600-1764719999@immanuellutheranbrownton.org
SUMMARY:Mona's Off
DESCRIPTION:
URL:https://immanuellutheranbrownton.org/event/monas-off/2025-12-02/
END:VEVENT
BEGIN:VEVENT
DTSTART;TZID=America/Chicago:20251202T000000
DTEND;TZID=America/Chicago:20251202T235959
DTSTAMP:20260419T180708
CREATED:20250804T164934Z
LAST-MODIFIED:20250804T164935Z
UID:10005721-1764633600-1764719999@immanuellutheranbrownton.org
SUMMARY:Noah's Ark Preschool Fundraiser at BBG
DESCRIPTION:
URL:https://immanuellutheranbrownton.org/event/noahs-ark-preschool-fundraiser-at-bbg-3/2025-12-02/
END:VEVENT
BEGIN:VEVENT
DTSTART;TZID=America/Chicago:20251202T183000
DTEND;TZID=America/Chicago:20251202T193000
DTSTAMP:20260419T180708
CREATED:20250611T150524Z
LAST-MODIFIED:20250611T151927Z
UID:10005506-1764700200-1764703800@immanuellutheranbrownton.org
SUMMARY:Deacon's Meeting
DESCRIPTION:
URL:https://immanuellutheranbrownton.org/event/deacons-meeting/2025-12-02/
END:VEVENT
BEGIN:VEVENT
DTSTART;TZID=America/Chicago:20251203T090000
DTEND;TZID=America/Chicago:20251203T100000
DTSTAMP:20260419T180708
CREATED:20250625T153249Z
LAST-MODIFIED:20250625T153250Z
UID:10005590-1764752400-1764756000@immanuellutheranbrownton.org
SUMMARY:Bible Class
DESCRIPTION:
URL:https://immanuellutheranbrownton.org/event/bible-class-26/2025-12-03/
END:VEVENT
BEGIN:VEVENT
DTSTART;TZID=America/Chicago:20251203T173000
DTEND;TZID=America/Chicago:20251203T180000
DTSTAMP:20260419T180708
CREATED:20251119T151157Z
LAST-MODIFIED:20251119T151158Z
UID:10006111-1764783000-1764784800@immanuellutheranbrownton.org
SUMMARY:Bell Choir Practice
DESCRIPTION:
URL:https://immanuellutheranbrownton.org/event/bell-choir-practice-3/2025-12-03/
END:VEVENT
BEGIN:VEVENT
DTSTART;TZID=America/Chicago:20251203T180000
DTEND;TZID=America/Chicago:20251203T191500
DTSTAMP:20260419T180708
CREATED:20250730T165523Z
LAST-MODIFIED:20250730T165524Z
UID:10005679-1764784800-1764789300@immanuellutheranbrownton.org
SUMMARY:Confirmation Class
DESCRIPTION:
URL:https://immanuellutheranbrownton.org/event/confirmation-class-17/2025-12-03/
END:VEVENT
BEGIN:VEVENT
DTSTART;TZID=America/Chicago:20251203T190000
DTEND;TZID=America/Chicago:20251203T200000
DTSTAMP:20260419T180708
CREATED:20251001T164500Z
LAST-MODIFIED:20251001T164501Z
UID:10006045-1764788400-1764792000@immanuellutheranbrownton.org
SUMMARY:Noah's Ark Preschool Christmas Program
DESCRIPTION:
URL:https://immanuellutheranbrownton.org/event/noahs-ark-preschool-christmas-program/
END:VEVENT
BEGIN:VEVENT
DTSTART;TZID=America/Chicago:20251204T000000
DTEND;TZID=America/Chicago:20251204T235959
DTSTAMP:20260419T180708
CREATED:20240809T184416Z
LAST-MODIFIED:20240809T185716Z
UID:10002231-1764806400-1764892799@immanuellutheranbrownton.org
SUMMARY:Mona's Off
DESCRIPTION:
URL:https://immanuellutheranbrownton.org/event/monas-off/2025-12-04/
END:VEVENT
BEGIN:VEVENT
DTSTART;TZID=America/Chicago:20251204T000000
DTEND;TZID=America/Chicago:20251204T235959
DTSTAMP:20260419T180708
CREATED:20250912T154028Z
LAST-MODIFIED:20250912T154029Z
UID:10006002-1764806400-1764892799@immanuellutheranbrownton.org
SUMMARY:Glenfield's Visits
DESCRIPTION:
URL:https://immanuellutheranbrownton.org/event/glenfields-visits/2025-12-04/
END:VEVENT
END:VCALENDAR