BEGIN:VCALENDAR
VERSION:2.0
PRODID:-//Immanuel Lutheran Church - ECPv6.15.17.1//NONSGML v1.0//EN
CALSCALE:GREGORIAN
METHOD:PUBLISH
X-WR-CALNAME:Immanuel Lutheran Church
X-ORIGINAL-URL:https://immanuellutheranbrownton.org
X-WR-CALDESC:Events for Immanuel Lutheran Church
REFRESH-INTERVAL;VALUE=DURATION:PT1H
X-Robots-Tag:noindex
X-PUBLISHED-TTL:PT1H
BEGIN:VTIMEZONE
TZID:America/Chicago
BEGIN:DAYLIGHT
TZOFFSETFROM:-0600
TZOFFSETTO:-0500
TZNAME:CDT
DTSTART:20240310T080000
END:DAYLIGHT
BEGIN:STANDARD
TZOFFSETFROM:-0500
TZOFFSETTO:-0600
TZNAME:CST
DTSTART:20241103T070000
END:STANDARD
BEGIN:DAYLIGHT
TZOFFSETFROM:-0600
TZOFFSETTO:-0500
TZNAME:CDT
DTSTART:20250309T080000
END:DAYLIGHT
BEGIN:STANDARD
TZOFFSETFROM:-0500
TZOFFSETTO:-0600
TZNAME:CST
DTSTART:20251102T070000
END:STANDARD
BEGIN:DAYLIGHT
TZOFFSETFROM:-0600
TZOFFSETTO:-0500
TZNAME:CDT
DTSTART:20260308T080000
END:DAYLIGHT
BEGIN:STANDARD
TZOFFSETFROM:-0500
TZOFFSETTO:-0600
TZNAME:CST
DTSTART:20261101T070000
END:STANDARD
END:VTIMEZONE
BEGIN:VEVENT
DTSTART;TZID=America/Chicago:20251106T000000
DTEND;TZID=America/Chicago:20251106T235959
DTSTAMP:20260419T173117
CREATED:20250912T154028Z
LAST-MODIFIED:20250912T154029Z
UID:10006001-1762387200-1762473599@immanuellutheranbrownton.org
SUMMARY:Glenfield's Visits
DESCRIPTION:
URL:https://immanuellutheranbrownton.org/event/glenfields-visits/2025-11-06/
END:VEVENT
BEGIN:VEVENT
DTSTART;TZID=America/Chicago:20251106T000000
DTEND;TZID=America/Chicago:20251106T235959
DTSTAMP:20260419T173117
CREATED:20240809T184416Z
LAST-MODIFIED:20240809T185716Z
UID:10002223-1762387200-1762473599@immanuellutheranbrownton.org
SUMMARY:Mona's Off
DESCRIPTION:
URL:https://immanuellutheranbrownton.org/event/monas-off/2025-11-06/
END:VEVENT
BEGIN:VEVENT
DTSTART;TZID=America/Chicago:20251105T180000
DTEND;TZID=America/Chicago:20251105T191500
DTSTAMP:20260419T173117
CREATED:20250730T164951Z
LAST-MODIFIED:20250730T164952Z
UID:10005675-1762365600-1762370100@immanuellutheranbrownton.org
SUMMARY:Confirmation Class
DESCRIPTION:
URL:https://immanuellutheranbrownton.org/event/confirmation-class-16/2025-11-05/
END:VEVENT
BEGIN:VEVENT
DTSTART;TZID=America/Chicago:20251105T090000
DTEND;TZID=America/Chicago:20251105T100000
DTSTAMP:20260419T173117
CREATED:20250625T153005Z
LAST-MODIFIED:20250625T153006Z
UID:10005586-1762333200-1762336800@immanuellutheranbrownton.org
SUMMARY:Bible Class
DESCRIPTION:
URL:https://immanuellutheranbrownton.org/event/bible-class-25/2025-11-05/
END:VEVENT
BEGIN:VEVENT
DTSTART;TZID=America/Chicago:20251104T183000
DTEND;TZID=America/Chicago:20251104T193000
DTSTAMP:20260419T173117
CREATED:20250611T150524Z
LAST-MODIFIED:20250611T151927Z
UID:10005505-1762281000-1762284600@immanuellutheranbrownton.org
SUMMARY:Deacon's Meeting
DESCRIPTION:
URL:https://immanuellutheranbrownton.org/event/deacons-meeting/2025-11-04/
END:VEVENT
BEGIN:VEVENT
DTSTART;TZID=America/Chicago:20251104T000000
DTEND;TZID=America/Chicago:20251104T235959
DTSTAMP:20260419T173117
CREATED:20250912T153834Z
LAST-MODIFIED:20250912T153836Z
UID:10006000-1762214400-1762300799@immanuellutheranbrownton.org
SUMMARY:Grand Meadows Visits
DESCRIPTION:
URL:https://immanuellutheranbrownton.org/event/grand-meadows-visits-2/
END:VEVENT
BEGIN:VEVENT
DTSTART;TZID=America/Chicago:20251104T000000
DTEND;TZID=America/Chicago:20251104T235959
DTSTAMP:20260419T173117
CREATED:20250804T164934Z
LAST-MODIFIED:20250804T164935Z
UID:10005720-1762214400-1762300799@immanuellutheranbrownton.org
SUMMARY:Noah's Ark Preschool Fundraiser at BBG
DESCRIPTION:
URL:https://immanuellutheranbrownton.org/event/noahs-ark-preschool-fundraiser-at-bbg-3/2025-11-04/
END:VEVENT
BEGIN:VEVENT
DTSTART;TZID=America/Chicago:20251104T000000
DTEND;TZID=America/Chicago:20251104T235959
DTSTAMP:20260419T173117
CREATED:20240809T184416Z
LAST-MODIFIED:20240809T185716Z
UID:10002222-1762214400-1762300799@immanuellutheranbrownton.org
SUMMARY:Mona's Off
DESCRIPTION:
URL:https://immanuellutheranbrownton.org/event/monas-off/2025-11-04/
END:VEVENT
BEGIN:VEVENT
DTSTART;TZID=America/Chicago:20251103T000000
DTEND;TZID=America/Chicago:20251103T235959
DTSTAMP:20260419T173117
CREATED:20240809T184611Z
LAST-MODIFIED:20240815T195418Z
UID:10002680-1762128000-1762214399@immanuellutheranbrownton.org
SUMMARY:Pastor's Off
DESCRIPTION:
URL:https://immanuellutheranbrownton.org/event/pastors-off/2025-11-03/
END:VEVENT
BEGIN:VEVENT
DTSTART;TZID=America/Chicago:20251102T101500
DTEND;TZID=America/Chicago:20251102T110000
DTSTAMP:20260419T173117
CREATED:20240809T184216Z
LAST-MODIFIED:20250505T173107Z
UID:10000589-1762078500-1762081200@immanuellutheranbrownton.org
SUMMARY:Adult Bible Class
DESCRIPTION:
URL:https://immanuellutheranbrownton.org/event/bible-class/2025-11-02/
LOCATION:Immanuel Lutheran\, 700 Division St\, Brownton\, Minnesota\, 55312
END:VEVENT
BEGIN:VEVENT
DTSTART;TZID=America/Chicago:20251102T100000
DTEND;TZID=America/Chicago:20251102T110000
DTSTAMP:20260419T173117
CREATED:20250912T153553Z
LAST-MODIFIED:20250912T153555Z
UID:10005994-1762077600-1762081200@immanuellutheranbrownton.org
SUMMARY:Sunday School Class
DESCRIPTION:
URL:https://immanuellutheranbrownton.org/event/sunday-school-class-4/2025-11-02/
END:VEVENT
BEGIN:VEVENT
DTSTART;TZID=America/Chicago:20251102T090000
DTEND;TZID=America/Chicago:20251102T100000
DTSTAMP:20260419T173117
CREATED:20240815T201901Z
LAST-MODIFIED:20240815T201955Z
UID:10003140-1762074000-1762077600@immanuellutheranbrownton.org
SUMMARY:Worship Service/Holy Communion
DESCRIPTION:
URL:https://immanuellutheranbrownton.org/event/worship-service-holy-communion/2025-11-02/
END:VEVENT
BEGIN:VEVENT
DTSTART;TZID=America/Chicago:20251102T000000
DTEND;TZID=America/Chicago:20251102T235959
DTSTAMP:20260419T173117
CREATED:20250912T153709Z
LAST-MODIFIED:20250912T153710Z
UID:10005999-1762041600-1762127999@immanuellutheranbrownton.org
SUMMARY:All Saints Day
DESCRIPTION:
URL:https://immanuellutheranbrownton.org/event/all-saints-day/
END:VEVENT
BEGIN:VEVENT
DTSTART;TZID=America/Chicago:20251031T090000
DTEND;TZID=America/Chicago:20251031T100000
DTSTAMP:20260419T173117
CREATED:20240809T184115Z
LAST-MODIFIED:20240809T190745Z
UID:10000328-1761901200-1761904800@immanuellutheranbrownton.org
SUMMARY:100 Bible Stories
DESCRIPTION:
URL:https://immanuellutheranbrownton.org/event/100-bible-stories/2025-10-31/
LOCATION:Online
END:VEVENT
BEGIN:VEVENT
DTSTART;TZID=America/Chicago:20251030T000000
DTEND;TZID=America/Chicago:20251030T235959
DTSTAMP:20260419T173117
CREATED:20240809T184416Z
LAST-MODIFIED:20240809T185716Z
UID:10002221-1761782400-1761868799@immanuellutheranbrownton.org
SUMMARY:Mona's Off
DESCRIPTION:
URL:https://immanuellutheranbrownton.org/event/monas-off/2025-10-30/
END:VEVENT
BEGIN:VEVENT
DTSTART;TZID=America/Chicago:20251029T180000
DTEND;TZID=America/Chicago:20251029T191500
DTSTAMP:20260419T173117
CREATED:20250730T164951Z
LAST-MODIFIED:20250730T164952Z
UID:10005674-1761760800-1761765300@immanuellutheranbrownton.org
SUMMARY:Confirmation Class
DESCRIPTION:
URL:https://immanuellutheranbrownton.org/event/confirmation-class-16/2025-10-29/
END:VEVENT
BEGIN:VEVENT
DTSTART;TZID=America/Chicago:20251029T090000
DTEND;TZID=America/Chicago:20251029T100000
DTSTAMP:20260419T173117
CREATED:20250625T153005Z
LAST-MODIFIED:20250625T153006Z
UID:10005585-1761728400-1761732000@immanuellutheranbrownton.org
SUMMARY:Bible Class
DESCRIPTION:
URL:https://immanuellutheranbrownton.org/event/bible-class-25/2025-10-29/
END:VEVENT
BEGIN:VEVENT
DTSTART;TZID=America/Chicago:20251028T000000
DTEND;TZID=America/Chicago:20251028T235959
DTSTAMP:20260419T173117
CREATED:20240809T191157Z
LAST-MODIFIED:20240815T201540Z
UID:10003080-1761609600-1761695999@immanuellutheranbrownton.org
SUMMARY:Hutch Pines Visits
DESCRIPTION:
URL:https://immanuellutheranbrownton.org/event/hutch-pines-visits/2025-10-28/
END:VEVENT
BEGIN:VEVENT
DTSTART;TZID=America/Chicago:20251028T000000
DTEND;TZID=America/Chicago:20251028T235959
DTSTAMP:20260419T173117
CREATED:20240809T184416Z
LAST-MODIFIED:20240809T185716Z
UID:10002220-1761609600-1761695999@immanuellutheranbrownton.org
SUMMARY:Mona's Off
DESCRIPTION:
URL:https://immanuellutheranbrownton.org/event/monas-off/2025-10-28/
END:VEVENT
BEGIN:VEVENT
DTSTART;TZID=America/Chicago:20251027T000000
DTEND;TZID=America/Chicago:20251027T235959
DTSTAMP:20260419T173117
CREATED:20240809T184611Z
LAST-MODIFIED:20240815T195418Z
UID:10002679-1761523200-1761609599@immanuellutheranbrownton.org
SUMMARY:Pastor's Off
DESCRIPTION:
URL:https://immanuellutheranbrownton.org/event/pastors-off/2025-10-27/
END:VEVENT
BEGIN:VEVENT
DTSTART;TZID=America/Chicago:20251026T101500
DTEND;TZID=America/Chicago:20251026T113000
DTSTAMP:20260419T173117
CREATED:20250625T151725Z
LAST-MODIFIED:20250625T151726Z
UID:10005572-1761473700-1761478200@immanuellutheranbrownton.org
SUMMARY:NO Adult Bible Class
DESCRIPTION:
URL:https://immanuellutheranbrownton.org/event/no-adult-bible-class-3/2025-10-26/
END:VEVENT
BEGIN:VEVENT
DTSTART;TZID=America/Chicago:20251026T100000
DTEND;TZID=America/Chicago:20251026T133000
DTSTAMP:20260419T173117
CREATED:20250806T142031Z
LAST-MODIFIED:20250806T142032Z
UID:10005785-1761472800-1761485400@immanuellutheranbrownton.org
SUMMARY:German Dinner
DESCRIPTION:
URL:https://immanuellutheranbrownton.org/event/german-dinner-2/
END:VEVENT
BEGIN:VEVENT
DTSTART;TZID=America/Chicago:20251026T090000
DTEND;TZID=America/Chicago:20251026T100000
DTSTAMP:20260419T173117
CREATED:20250424T001633Z
LAST-MODIFIED:20250424T001642Z
UID:10000066-1761469200-1761472800@immanuellutheranbrownton.org
SUMMARY:Worship Service/Holy Communion
DESCRIPTION:
URL:https://immanuellutheranbrownton.org/event/worship-service-holy-communion-choir-singing-10/2025-10-26/
LOCATION:Immanuel Lutheran\, 700 Division St\, Brownton\, Minnesota\, 55312
END:VEVENT
BEGIN:VEVENT
DTSTART;TZID=America/Chicago:20251026T090000
DTEND;TZID=America/Chicago:20251026T093000
DTSTAMP:20260419T173117
CREATED:20250912T160320Z
LAST-MODIFIED:20250912T160321Z
UID:10006010-1761469200-1761471000@immanuellutheranbrownton.org
SUMMARY:Choir Singing
DESCRIPTION:
URL:https://immanuellutheranbrownton.org/event/choir-singing-3/
END:VEVENT
BEGIN:VEVENT
DTSTART;TZID=America/Chicago:20251026T083000
DTEND;TZID=America/Chicago:20251026T090000
DTSTAMP:20260419T173117
CREATED:20240823T161855Z
LAST-MODIFIED:20240823T161856Z
UID:10004647-1761467400-1761469200@immanuellutheranbrownton.org
SUMMARY:Choir Practice
DESCRIPTION:
URL:https://immanuellutheranbrownton.org/event/choir-practice-12/2025-10-26/
END:VEVENT
BEGIN:VEVENT
DTSTART;TZID=America/Chicago:20251026T000000
DTEND;TZID=America/Chicago:20251026T235959
DTSTAMP:20260419T173117
CREATED:20250912T152847Z
LAST-MODIFIED:20250912T152849Z
UID:10005993-1761436800-1761523199@immanuellutheranbrownton.org
SUMMARY:Reformation Sunday
DESCRIPTION:
URL:https://immanuellutheranbrownton.org/event/reformation-sunday-2/
END:VEVENT
BEGIN:VEVENT
DTSTART;TZID=America/Chicago:20251025T000000
DTEND;TZID=America/Chicago:20251025T235959
DTSTAMP:20260419T173117
CREATED:20250813T133945Z
LAST-MODIFIED:20250813T133947Z
UID:10005858-1761350400-1761436799@immanuellutheranbrownton.org
SUMMARY:Finberg/Ribar Wedding
DESCRIPTION:The wedding will be at St Joseph\, MN
URL:https://immanuellutheranbrownton.org/event/finberg-ribar-wedding/
END:VEVENT
BEGIN:VEVENT
DTSTART;TZID=America/Chicago:20251024T090000
DTEND;TZID=America/Chicago:20251024T100000
DTSTAMP:20260419T173117
CREATED:20240809T184115Z
LAST-MODIFIED:20240809T190745Z
UID:10000327-1761296400-1761300000@immanuellutheranbrownton.org
SUMMARY:100 Bible Stories
DESCRIPTION:
URL:https://immanuellutheranbrownton.org/event/100-bible-stories/2025-10-24/
LOCATION:Online
END:VEVENT
BEGIN:VEVENT
DTSTART;TZID=America/Chicago:20251023T000000
DTEND;TZID=America/Chicago:20251023T235959
DTSTAMP:20260419T173117
CREATED:20240809T184416Z
LAST-MODIFIED:20240809T185716Z
UID:10002219-1761177600-1761263999@immanuellutheranbrownton.org
SUMMARY:Mona's Off
DESCRIPTION:
URL:https://immanuellutheranbrownton.org/event/monas-off/2025-10-23/
END:VEVENT
BEGIN:VEVENT
DTSTART;TZID=America/Chicago:20251022T180000
DTEND;TZID=America/Chicago:20251022T191500
DTSTAMP:20260419T173117
CREATED:20250730T164951Z
LAST-MODIFIED:20250730T164952Z
UID:10005673-1761156000-1761160500@immanuellutheranbrownton.org
SUMMARY:Confirmation Class
DESCRIPTION:
URL:https://immanuellutheranbrownton.org/event/confirmation-class-16/2025-10-22/
END:VEVENT
END:VCALENDAR