BEGIN:VCALENDAR
VERSION:2.0
PRODID:-//Immanuel Lutheran Church - ECPv6.15.17.1//NONSGML v1.0//EN
CALSCALE:GREGORIAN
METHOD:PUBLISH
X-WR-CALNAME:Immanuel Lutheran Church
X-ORIGINAL-URL:https://immanuellutheranbrownton.org
X-WR-CALDESC:Events for Immanuel Lutheran Church
REFRESH-INTERVAL;VALUE=DURATION:PT1H
X-Robots-Tag:noindex
X-PUBLISHED-TTL:PT1H
BEGIN:VTIMEZONE
TZID:America/Chicago
BEGIN:DAYLIGHT
TZOFFSETFROM:-0600
TZOFFSETTO:-0500
TZNAME:CDT
DTSTART:20250309T080000
END:DAYLIGHT
BEGIN:STANDARD
TZOFFSETFROM:-0500
TZOFFSETTO:-0600
TZNAME:CST
DTSTART:20251102T070000
END:STANDARD
BEGIN:DAYLIGHT
TZOFFSETFROM:-0600
TZOFFSETTO:-0500
TZNAME:CDT
DTSTART:20260308T080000
END:DAYLIGHT
BEGIN:STANDARD
TZOFFSETFROM:-0500
TZOFFSETTO:-0600
TZNAME:CST
DTSTART:20261101T070000
END:STANDARD
BEGIN:DAYLIGHT
TZOFFSETFROM:-0600
TZOFFSETTO:-0500
TZNAME:CDT
DTSTART:20270314T080000
END:DAYLIGHT
BEGIN:STANDARD
TZOFFSETFROM:-0500
TZOFFSETTO:-0600
TZNAME:CST
DTSTART:20271107T070000
END:STANDARD
END:VTIMEZONE
BEGIN:VEVENT
DTSTART;TZID=America/Chicago:20260602T000000
DTEND;TZID=America/Chicago:20260602T235959
DTSTAMP:20260420T105930
CREATED:20240809T184416Z
LAST-MODIFIED:20240809T185716Z
UID:10002282-1780358400-1780444799@immanuellutheranbrownton.org
SUMMARY:Mona's Off
DESCRIPTION:
URL:https://immanuellutheranbrownton.org/event/monas-off/2026-06-02/
END:VEVENT
BEGIN:VEVENT
DTSTART;TZID=America/Chicago:20260602T000000
DTEND;TZID=America/Chicago:20260602T235959
DTSTAMP:20260420T105930
CREATED:20250804T164934Z
LAST-MODIFIED:20250804T164935Z
UID:10005727-1780358400-1780444799@immanuellutheranbrownton.org
SUMMARY:Noah's Ark Preschool Fundraiser at BBG
DESCRIPTION:
URL:https://immanuellutheranbrownton.org/event/noahs-ark-preschool-fundraiser-at-bbg-3/2026-06-02/
END:VEVENT
BEGIN:VEVENT
DTSTART;TZID=America/Chicago:20260602T080000
DTEND;TZID=America/Chicago:20260602T170000
DTSTAMP:20260420T105930
CREATED:20251212T164920Z
LAST-MODIFIED:20251212T164921Z
UID:10006238-1780387200-1780419600@immanuellutheranbrownton.org
SUMMARY:Grand Meadows Visits
DESCRIPTION:
URL:https://immanuellutheranbrownton.org/event/grand-meadows-visits-4/2026-06-02/
END:VEVENT
BEGIN:VEVENT
DTSTART;TZID=America/Chicago:20260602T183000
DTEND;TZID=America/Chicago:20260602T193000
DTSTAMP:20260420T105930
CREATED:20250611T150524Z
LAST-MODIFIED:20250611T151927Z
UID:10005512-1780425000-1780428600@immanuellutheranbrownton.org
SUMMARY:Deacon's Meeting
DESCRIPTION:
URL:https://immanuellutheranbrownton.org/event/deacons-meeting/2026-06-02/
END:VEVENT
END:VCALENDAR