BEGIN:VCALENDAR
VERSION:2.0
PRODID:-//Immanuel Lutheran Church - ECPv6.15.17.1//NONSGML v1.0//EN
CALSCALE:GREGORIAN
METHOD:PUBLISH
X-ORIGINAL-URL:https://immanuellutheranbrownton.org
X-WR-CALDESC:Events for Immanuel Lutheran Church
REFRESH-INTERVAL;VALUE=DURATION:PT1H
X-Robots-Tag:noindex
X-PUBLISHED-TTL:PT1H
BEGIN:VTIMEZONE
TZID:America/Chicago
BEGIN:DAYLIGHT
TZOFFSETFROM:-0600
TZOFFSETTO:-0500
TZNAME:CDT
DTSTART:20250309T080000
END:DAYLIGHT
BEGIN:STANDARD
TZOFFSETFROM:-0500
TZOFFSETTO:-0600
TZNAME:CST
DTSTART:20251102T070000
END:STANDARD
BEGIN:DAYLIGHT
TZOFFSETFROM:-0600
TZOFFSETTO:-0500
TZNAME:CDT
DTSTART:20260308T080000
END:DAYLIGHT
BEGIN:STANDARD
TZOFFSETFROM:-0500
TZOFFSETTO:-0600
TZNAME:CST
DTSTART:20261101T070000
END:STANDARD
BEGIN:DAYLIGHT
TZOFFSETFROM:-0600
TZOFFSETTO:-0500
TZNAME:CDT
DTSTART:20270314T080000
END:DAYLIGHT
BEGIN:STANDARD
TZOFFSETFROM:-0500
TZOFFSETTO:-0600
TZNAME:CST
DTSTART:20271107T070000
END:STANDARD
END:VTIMEZONE
BEGIN:VEVENT
DTSTART;TZID=America/Chicago:20260512T000000
DTEND;TZID=America/Chicago:20260512T235959
DTSTAMP:20260420T110235
CREATED:20240809T184416Z
LAST-MODIFIED:20240809T185716Z
UID:10002276-1778544000-1778630399@immanuellutheranbrownton.org
SUMMARY:Mona's Off
DESCRIPTION:
URL:https://immanuellutheranbrownton.org/event/monas-off/2026-05-12/
END:VEVENT
BEGIN:VEVENT
DTSTART;TZID=America/Chicago:20260512T080000
DTEND;TZID=America/Chicago:20260512T170000
DTSTAMP:20260420T110235
CREATED:20251212T165009Z
LAST-MODIFIED:20251212T165011Z
UID:10006296-1778572800-1778605200@immanuellutheranbrownton.org
SUMMARY:Harmony River Visits
DESCRIPTION:
URL:https://immanuellutheranbrownton.org/event/harmony-river-visits-4/2026-05-12/
END:VEVENT
BEGIN:VEVENT
DTSTART;TZID=America/Chicago:20260512T080000
DTEND;TZID=America/Chicago:20260512T170000
DTSTAMP:20260420T110235
CREATED:20260304T144233Z
LAST-MODIFIED:20260304T144234Z
UID:10006462-1778572800-1778605200@immanuellutheranbrownton.org
SUMMARY:Pastor's gone to Conference
DESCRIPTION:
URL:https://immanuellutheranbrownton.org/event/pastors-gone-to-conference/2026-05-12/
END:VEVENT
END:VCALENDAR