BEGIN:VCALENDAR
VERSION:2.0
PRODID:-//Immanuel Lutheran Church - ECPv6.15.17.1//NONSGML v1.0//EN
CALSCALE:GREGORIAN
METHOD:PUBLISH
X-ORIGINAL-URL:https://immanuellutheranbrownton.org
X-WR-CALDESC:Events for Immanuel Lutheran Church
REFRESH-INTERVAL;VALUE=DURATION:PT1H
X-Robots-Tag:noindex
X-PUBLISHED-TTL:PT1H
BEGIN:VTIMEZONE
TZID:America/Chicago
BEGIN:DAYLIGHT
TZOFFSETFROM:-0600
TZOFFSETTO:-0500
TZNAME:CDT
DTSTART:20250309T080000
END:DAYLIGHT
BEGIN:STANDARD
TZOFFSETFROM:-0500
TZOFFSETTO:-0600
TZNAME:CST
DTSTART:20251102T070000
END:STANDARD
BEGIN:DAYLIGHT
TZOFFSETFROM:-0600
TZOFFSETTO:-0500
TZNAME:CDT
DTSTART:20260308T080000
END:DAYLIGHT
BEGIN:STANDARD
TZOFFSETFROM:-0500
TZOFFSETTO:-0600
TZNAME:CST
DTSTART:20261101T070000
END:STANDARD
BEGIN:DAYLIGHT
TZOFFSETFROM:-0600
TZOFFSETTO:-0500
TZNAME:CDT
DTSTART:20270314T080000
END:DAYLIGHT
BEGIN:STANDARD
TZOFFSETFROM:-0500
TZOFFSETTO:-0600
TZNAME:CST
DTSTART:20271107T070000
END:STANDARD
END:VTIMEZONE
BEGIN:VEVENT
DTSTART;TZID=America/Chicago:20260503T090000
DTEND;TZID=America/Chicago:20260503T100000
DTSTAMP:20260420T071218
CREATED:20240815T201901Z
LAST-MODIFIED:20240815T201955Z
UID:10003146-1777798800-1777802400@immanuellutheranbrownton.org
SUMMARY:Worship Service/Holy Communion
DESCRIPTION:
URL:https://immanuellutheranbrownton.org/event/worship-service-holy-communion/2026-05-03/
END:VEVENT
BEGIN:VEVENT
DTSTART;TZID=America/Chicago:20260503T101500
DTEND;TZID=America/Chicago:20260503T110000
DTSTAMP:20260420T071218
CREATED:20240809T184216Z
LAST-MODIFIED:20250505T173107Z
UID:10000615-1777803300-1777806000@immanuellutheranbrownton.org
SUMMARY:Adult Bible Class
DESCRIPTION:
URL:https://immanuellutheranbrownton.org/event/bible-class/2026-05-03/
LOCATION:Immanuel Lutheran\, 700 Division St\, Brownton\, Minnesota\, 55312
END:VEVENT
END:VCALENDAR