BEGIN:VCALENDAR
VERSION:2.0
PRODID:-//Immanuel Lutheran Church - ECPv6.15.17.1//NONSGML v1.0//EN
CALSCALE:GREGORIAN
METHOD:PUBLISH
X-ORIGINAL-URL:https://immanuellutheranbrownton.org
X-WR-CALDESC:Events for Immanuel Lutheran Church
REFRESH-INTERVAL;VALUE=DURATION:PT1H
X-Robots-Tag:noindex
X-PUBLISHED-TTL:PT1H
BEGIN:VTIMEZONE
TZID:America/Chicago
BEGIN:DAYLIGHT
TZOFFSETFROM:-0600
TZOFFSETTO:-0500
TZNAME:CDT
DTSTART:20250309T080000
END:DAYLIGHT
BEGIN:STANDARD
TZOFFSETFROM:-0500
TZOFFSETTO:-0600
TZNAME:CST
DTSTART:20251102T070000
END:STANDARD
BEGIN:DAYLIGHT
TZOFFSETFROM:-0600
TZOFFSETTO:-0500
TZNAME:CDT
DTSTART:20260308T080000
END:DAYLIGHT
BEGIN:STANDARD
TZOFFSETFROM:-0500
TZOFFSETTO:-0600
TZNAME:CST
DTSTART:20261101T070000
END:STANDARD
BEGIN:DAYLIGHT
TZOFFSETFROM:-0600
TZOFFSETTO:-0500
TZNAME:CDT
DTSTART:20270314T080000
END:DAYLIGHT
BEGIN:STANDARD
TZOFFSETFROM:-0500
TZOFFSETTO:-0600
TZNAME:CST
DTSTART:20271107T070000
END:STANDARD
END:VTIMEZONE
BEGIN:VEVENT
DTSTART;TZID=America/Chicago:20260415T090000
DTEND;TZID=America/Chicago:20260415T100000
DTSTAMP:20260420T070926
CREATED:20250625T153903Z
LAST-MODIFIED:20250625T153904Z
UID:10005609-1776243600-1776247200@immanuellutheranbrownton.org
SUMMARY:Bible Class
DESCRIPTION:
URL:https://immanuellutheranbrownton.org/event/bible-class-28/2026-04-15/
END:VEVENT
BEGIN:VEVENT
DTSTART;TZID=America/Chicago:20260415T133000
DTEND;TZID=America/Chicago:20260415T143000
DTSTAMP:20260420T070926
CREATED:20240816T145236Z
LAST-MODIFIED:20240816T145237Z
UID:10004004-1776259800-1776263400@immanuellutheranbrownton.org
SUMMARY:Afternoon Worship Service/Holy Communion
DESCRIPTION:
URL:https://immanuellutheranbrownton.org/event/afternoon-worship-service-holy-communion/2026-04-15/
END:VEVENT
BEGIN:VEVENT
DTSTART;TZID=America/Chicago:20260415T173000
DTEND;TZID=America/Chicago:20260415T180000
DTSTAMP:20260420T070926
CREATED:20260407T165437Z
LAST-MODIFIED:20260407T171503Z
UID:10006508-1776274200-1776276000@immanuellutheranbrownton.org
SUMMARY:Bell Choir Practice
DESCRIPTION:
URL:https://immanuellutheranbrownton.org/event/bell-choir-practice-4/2026-04-15/
END:VEVENT
BEGIN:VEVENT
DTSTART;TZID=America/Chicago:20260415T180000
DTEND;TZID=America/Chicago:20260415T183000
DTSTAMP:20260420T070926
CREATED:20260407T171625Z
LAST-MODIFIED:20260407T171626Z
UID:10006510-1776276000-1776277800@immanuellutheranbrownton.org
SUMMARY:Choir Practice
DESCRIPTION:
URL:https://immanuellutheranbrownton.org/event/choir-practice-6/2026-04-15/
END:VEVENT
BEGIN:VEVENT
DTSTART;TZID=America/Chicago:20260415T180000
DTEND;TZID=America/Chicago:20260415T191500
DTSTAMP:20260420T070926
CREATED:20250730T170658Z
LAST-MODIFIED:20250730T170700Z
UID:10005699-1776276000-1776280500@immanuellutheranbrownton.org
SUMMARY:Confirmation Class
DESCRIPTION:
URL:https://immanuellutheranbrownton.org/event/confirmation-class-20/2026-04-15/
END:VEVENT
BEGIN:VEVENT
DTSTART;TZID=America/Chicago:20260415T193000
DTEND;TZID=America/Chicago:20260415T203000
DTSTAMP:20260420T070926
CREATED:20260204T181438Z
LAST-MODIFIED:20260204T181439Z
UID:10006420-1776281400-1776285000@immanuellutheranbrownton.org
SUMMARY:Council Meeting
DESCRIPTION:
URL:https://immanuellutheranbrownton.org/event/council-meeting-2/
END:VEVENT
END:VCALENDAR