BEGIN:VCALENDAR
VERSION:2.0
PRODID:-//Immanuel Lutheran Church - ECPv6.15.20//NONSGML v1.0//EN
CALSCALE:GREGORIAN
METHOD:PUBLISH
X-WR-CALNAME:Immanuel Lutheran Church
X-ORIGINAL-URL:https://immanuellutheranbrownton.org
X-WR-CALDESC:Events for Immanuel Lutheran Church
REFRESH-INTERVAL;VALUE=DURATION:PT1H
X-Robots-Tag:noindex
X-PUBLISHED-TTL:PT1H
BEGIN:VTIMEZONE
TZID:America/Chicago
BEGIN:DAYLIGHT
TZOFFSETFROM:-0600
TZOFFSETTO:-0500
TZNAME:CDT
DTSTART:20240310T080000
END:DAYLIGHT
BEGIN:STANDARD
TZOFFSETFROM:-0500
TZOFFSETTO:-0600
TZNAME:CST
DTSTART:20241103T070000
END:STANDARD
BEGIN:DAYLIGHT
TZOFFSETFROM:-0600
TZOFFSETTO:-0500
TZNAME:CDT
DTSTART:20250309T080000
END:DAYLIGHT
BEGIN:STANDARD
TZOFFSETFROM:-0500
TZOFFSETTO:-0600
TZNAME:CST
DTSTART:20251102T070000
END:STANDARD
BEGIN:DAYLIGHT
TZOFFSETFROM:-0600
TZOFFSETTO:-0500
TZNAME:CDT
DTSTART:20260308T080000
END:DAYLIGHT
BEGIN:STANDARD
TZOFFSETFROM:-0500
TZOFFSETTO:-0600
TZNAME:CST
DTSTART:20261101T070000
END:STANDARD
END:VTIMEZONE
BEGIN:VEVENT
DTSTART;TZID=America/Chicago:20251210T090000
DTEND;TZID=America/Chicago:20251210T100000
DTSTAMP:20260425T074921
CREATED:20250625T153249Z
LAST-MODIFIED:20250625T153250Z
UID:10005591-1765357200-1765360800@immanuellutheranbrownton.org
SUMMARY:Bible Class
DESCRIPTION:
URL:https://immanuellutheranbrownton.org/event/bible-class-26/2025-12-10/
END:VEVENT
BEGIN:VEVENT
DTSTART;TZID=America/Chicago:20251210T173000
DTEND;TZID=America/Chicago:20251210T180000
DTSTAMP:20260425T074921
CREATED:20251119T151157Z
LAST-MODIFIED:20251119T151158Z
UID:10006112-1765387800-1765389600@immanuellutheranbrownton.org
SUMMARY:Bell Choir Practice
DESCRIPTION:
URL:https://immanuellutheranbrownton.org/event/bell-choir-practice-3/2025-12-10/
END:VEVENT
BEGIN:VEVENT
DTSTART;TZID=America/Chicago:20251210T180000
DTEND;TZID=America/Chicago:20251210T190000
DTSTAMP:20260425T074921
CREATED:20251124T160818Z
LAST-MODIFIED:20251124T162146Z
UID:10006130-1765389600-1765393200@immanuellutheranbrownton.org
SUMMARY:Choir Practice
DESCRIPTION:
URL:https://immanuellutheranbrownton.org/event/choir-practice-5/2025-12-10/
END:VEVENT
BEGIN:VEVENT
DTSTART;TZID=America/Chicago:20251210T180000
DTEND;TZID=America/Chicago:20251210T191500
DTSTAMP:20260425T074921
CREATED:20250730T165523Z
LAST-MODIFIED:20250730T165524Z
UID:10005680-1765389600-1765394100@immanuellutheranbrownton.org
SUMMARY:Confirmation Class
DESCRIPTION:
URL:https://immanuellutheranbrownton.org/event/confirmation-class-17/2025-12-10/
END:VEVENT
END:VCALENDAR