BEGIN:VCALENDAR
VERSION:2.0
PRODID:-//Immanuel Lutheran Church - ECPv6.15.17.1//NONSGML v1.0//EN
CALSCALE:GREGORIAN
METHOD:PUBLISH
X-WR-CALNAME:Immanuel Lutheran Church
X-ORIGINAL-URL:https://immanuellutheranbrownton.org
X-WR-CALDESC:Events for Immanuel Lutheran Church
REFRESH-INTERVAL;VALUE=DURATION:PT1H
X-Robots-Tag:noindex
X-PUBLISHED-TTL:PT1H
BEGIN:VTIMEZONE
TZID:America/Chicago
BEGIN:DAYLIGHT
TZOFFSETFROM:-0600
TZOFFSETTO:-0500
TZNAME:CDT
DTSTART:20240310T080000
END:DAYLIGHT
BEGIN:STANDARD
TZOFFSETFROM:-0500
TZOFFSETTO:-0600
TZNAME:CST
DTSTART:20241103T070000
END:STANDARD
BEGIN:DAYLIGHT
TZOFFSETFROM:-0600
TZOFFSETTO:-0500
TZNAME:CDT
DTSTART:20250309T080000
END:DAYLIGHT
BEGIN:STANDARD
TZOFFSETFROM:-0500
TZOFFSETTO:-0600
TZNAME:CST
DTSTART:20251102T070000
END:STANDARD
BEGIN:DAYLIGHT
TZOFFSETFROM:-0600
TZOFFSETTO:-0500
TZNAME:CDT
DTSTART:20260308T080000
END:DAYLIGHT
BEGIN:STANDARD
TZOFFSETFROM:-0500
TZOFFSETTO:-0600
TZNAME:CST
DTSTART:20261101T070000
END:STANDARD
END:VTIMEZONE
BEGIN:VEVENT
DTSTART;TZID=America/Chicago:20251203T090000
DTEND;TZID=America/Chicago:20251203T100000
DTSTAMP:20260421T085007
CREATED:20250625T153249Z
LAST-MODIFIED:20250625T153250Z
UID:10005590-1764752400-1764756000@immanuellutheranbrownton.org
SUMMARY:Bible Class
DESCRIPTION:
URL:https://immanuellutheranbrownton.org/event/bible-class-26/2025-12-03/
END:VEVENT
BEGIN:VEVENT
DTSTART;TZID=America/Chicago:20251203T173000
DTEND;TZID=America/Chicago:20251203T180000
DTSTAMP:20260421T085007
CREATED:20251119T151157Z
LAST-MODIFIED:20251119T151158Z
UID:10006111-1764783000-1764784800@immanuellutheranbrownton.org
SUMMARY:Bell Choir Practice
DESCRIPTION:
URL:https://immanuellutheranbrownton.org/event/bell-choir-practice-3/2025-12-03/
END:VEVENT
BEGIN:VEVENT
DTSTART;TZID=America/Chicago:20251203T180000
DTEND;TZID=America/Chicago:20251203T191500
DTSTAMP:20260421T085007
CREATED:20250730T165523Z
LAST-MODIFIED:20250730T165524Z
UID:10005679-1764784800-1764789300@immanuellutheranbrownton.org
SUMMARY:Confirmation Class
DESCRIPTION:
URL:https://immanuellutheranbrownton.org/event/confirmation-class-17/2025-12-03/
END:VEVENT
BEGIN:VEVENT
DTSTART;TZID=America/Chicago:20251203T190000
DTEND;TZID=America/Chicago:20251203T200000
DTSTAMP:20260421T085007
CREATED:20251001T164500Z
LAST-MODIFIED:20251001T164501Z
UID:10006045-1764788400-1764792000@immanuellutheranbrownton.org
SUMMARY:Noah's Ark Preschool Christmas Program
DESCRIPTION:
URL:https://immanuellutheranbrownton.org/event/noahs-ark-preschool-christmas-program/
END:VEVENT
END:VCALENDAR