BEGIN:VCALENDAR
VERSION:2.0
PRODID:-//Immanuel Lutheran Church - ECPv6.15.17.1//NONSGML v1.0//EN
CALSCALE:GREGORIAN
METHOD:PUBLISH
X-WR-CALNAME:Immanuel Lutheran Church
X-ORIGINAL-URL:https://immanuellutheranbrownton.org
X-WR-CALDESC:Events for Immanuel Lutheran Church
REFRESH-INTERVAL;VALUE=DURATION:PT1H
X-Robots-Tag:noindex
X-PUBLISHED-TTL:PT1H
BEGIN:VTIMEZONE
TZID:America/Chicago
BEGIN:DAYLIGHT
TZOFFSETFROM:-0600
TZOFFSETTO:-0500
TZNAME:CDT
DTSTART:20240310T080000
END:DAYLIGHT
BEGIN:STANDARD
TZOFFSETFROM:-0500
TZOFFSETTO:-0600
TZNAME:CST
DTSTART:20241103T070000
END:STANDARD
BEGIN:DAYLIGHT
TZOFFSETFROM:-0600
TZOFFSETTO:-0500
TZNAME:CDT
DTSTART:20250309T080000
END:DAYLIGHT
BEGIN:STANDARD
TZOFFSETFROM:-0500
TZOFFSETTO:-0600
TZNAME:CST
DTSTART:20251102T070000
END:STANDARD
BEGIN:DAYLIGHT
TZOFFSETFROM:-0600
TZOFFSETTO:-0500
TZNAME:CDT
DTSTART:20260308T080000
END:DAYLIGHT
BEGIN:STANDARD
TZOFFSETFROM:-0500
TZOFFSETTO:-0600
TZNAME:CST
DTSTART:20261101T070000
END:STANDARD
END:VTIMEZONE
BEGIN:VEVENT
DTSTART;TZID=America/Chicago:20251130T000000
DTEND;TZID=America/Chicago:20251130T235959
DTSTAMP:20260419T073654
CREATED:20250912T155140Z
LAST-MODIFIED:20250912T155141Z
UID:10006009-1764460800-1764547199@immanuellutheranbrownton.org
SUMMARY:1st Sunday in Advent
DESCRIPTION:
URL:https://immanuellutheranbrownton.org/event/1st-sunday-in-advent/
END:VEVENT
BEGIN:VEVENT
DTSTART;TZID=America/Chicago:20251130T090000
DTEND;TZID=America/Chicago:20251130T101500
DTSTAMP:20260419T073654
CREATED:20250908T173146Z
LAST-MODIFIED:20250912T155234Z
UID:10005965-1764493200-1764497700@immanuellutheranbrownton.org
SUMMARY:Worship Service | Holy Communion
DESCRIPTION:First Sunday in Advent
URL:https://immanuellutheranbrownton.org/event/worship-service-holy-communion-choir-singing-11/
END:VEVENT
BEGIN:VEVENT
DTSTART;TZID=America/Chicago:20251130T100000
DTEND;TZID=America/Chicago:20251130T110000
DTSTAMP:20260419T073654
CREATED:20250924T133348Z
LAST-MODIFIED:20250924T133349Z
UID:10005998-1764496800-1764500400@immanuellutheranbrownton.org
SUMMARY:Sunday School Class
DESCRIPTION:Christmas Program Practice Begins
URL:https://immanuellutheranbrownton.org/event/sunday-school-class-5/
END:VEVENT
BEGIN:VEVENT
DTSTART;TZID=America/Chicago:20251130T101500
DTEND;TZID=America/Chicago:20251130T110000
DTSTAMP:20260419T073654
CREATED:20240809T184216Z
LAST-MODIFIED:20250505T173107Z
UID:10000593-1764497700-1764500400@immanuellutheranbrownton.org
SUMMARY:Adult Bible Class
DESCRIPTION:
URL:https://immanuellutheranbrownton.org/event/bible-class/2025-11-30/
LOCATION:Immanuel Lutheran\, 700 Division St\, Brownton\, Minnesota\, 55312
END:VEVENT
END:VCALENDAR