BEGIN:VCALENDAR
VERSION:2.0
PRODID:-//Immanuel Lutheran Church - ECPv6.15.20//NONSGML v1.0//EN
CALSCALE:GREGORIAN
METHOD:PUBLISH
X-ORIGINAL-URL:https://immanuellutheranbrownton.org
X-WR-CALDESC:Events for Immanuel Lutheran Church
REFRESH-INTERVAL;VALUE=DURATION:PT1H
X-Robots-Tag:noindex
X-PUBLISHED-TTL:PT1H
BEGIN:VTIMEZONE
TZID:America/Chicago
BEGIN:DAYLIGHT
TZOFFSETFROM:-0600
TZOFFSETTO:-0500
TZNAME:CDT
DTSTART:20240310T080000
END:DAYLIGHT
BEGIN:STANDARD
TZOFFSETFROM:-0500
TZOFFSETTO:-0600
TZNAME:CST
DTSTART:20241103T070000
END:STANDARD
BEGIN:DAYLIGHT
TZOFFSETFROM:-0600
TZOFFSETTO:-0500
TZNAME:CDT
DTSTART:20250309T080000
END:DAYLIGHT
BEGIN:STANDARD
TZOFFSETFROM:-0500
TZOFFSETTO:-0600
TZNAME:CST
DTSTART:20251102T070000
END:STANDARD
BEGIN:DAYLIGHT
TZOFFSETFROM:-0600
TZOFFSETTO:-0500
TZNAME:CDT
DTSTART:20260308T080000
END:DAYLIGHT
BEGIN:STANDARD
TZOFFSETFROM:-0500
TZOFFSETTO:-0600
TZNAME:CST
DTSTART:20261101T070000
END:STANDARD
END:VTIMEZONE
BEGIN:VEVENT
DTSTART;TZID=America/Chicago:20251123T090000
DTEND;TZID=America/Chicago:20251123T100000
DTSTAMP:20260425T073722
CREATED:20250908T172953Z
LAST-MODIFIED:20250908T172959Z
UID:10000070-1763888400-1763892000@immanuellutheranbrownton.org
SUMMARY:Worship Service
DESCRIPTION:
URL:https://immanuellutheranbrownton.org/event/worship-service-holy-communion-17/
LOCATION:Immanuel Lutheran\, 700 Division St\, Brownton\, Minnesota\, 55312
END:VEVENT
BEGIN:VEVENT
DTSTART;TZID=America/Chicago:20251123T100000
DTEND;TZID=America/Chicago:20251123T110000
DTSTAMP:20260425T073722
CREATED:20250912T153553Z
LAST-MODIFIED:20250912T153555Z
UID:10005997-1763892000-1763895600@immanuellutheranbrownton.org
SUMMARY:Sunday School Class
DESCRIPTION:
URL:https://immanuellutheranbrownton.org/event/sunday-school-class-4/2025-11-23/
END:VEVENT
BEGIN:VEVENT
DTSTART;TZID=America/Chicago:20251123T101500
DTEND;TZID=America/Chicago:20251123T110000
DTSTAMP:20260425T073722
CREATED:20240809T184216Z
LAST-MODIFIED:20250505T173107Z
UID:10000592-1763892900-1763895600@immanuellutheranbrownton.org
SUMMARY:Adult Bible Class
DESCRIPTION:
URL:https://immanuellutheranbrownton.org/event/bible-class/2025-11-23/
LOCATION:Immanuel Lutheran\, 700 Division St\, Brownton\, Minnesota\, 55312
END:VEVENT
BEGIN:VEVENT
DTSTART;TZID=America/Chicago:20251123T101500
DTEND;TZID=America/Chicago:20251123T110000
DTSTAMP:20260425T073722
CREATED:20251119T150837Z
LAST-MODIFIED:20251119T150838Z
UID:10006109-1763892900-1763895600@immanuellutheranbrownton.org
SUMMARY:Bell Choir Practice
DESCRIPTION:
URL:https://immanuellutheranbrownton.org/event/bell-choir-practice-2/
END:VEVENT
BEGIN:VEVENT
DTSTART;TZID=America/Chicago:20251123T140000
DTEND;TZID=America/Chicago:20251123T160000
DTSTAMP:20260425T073722
CREATED:20251029T163516Z
LAST-MODIFIED:20251029T163517Z
UID:10006069-1763906400-1763913600@immanuellutheranbrownton.org
SUMMARY:Noah's Ark Preschool Advent Festival
DESCRIPTION:Will be at the Brownton Civic Center ( Old Gym )
URL:https://immanuellutheranbrownton.org/event/noahs-ark-preschool-advent-festival/
END:VEVENT
END:VCALENDAR