BEGIN:VCALENDAR
VERSION:2.0
PRODID:-//Immanuel Lutheran Church - ECPv6.15.20//NONSGML v1.0//EN
CALSCALE:GREGORIAN
METHOD:PUBLISH
X-ORIGINAL-URL:https://immanuellutheranbrownton.org
X-WR-CALDESC:Events for Immanuel Lutheran Church
REFRESH-INTERVAL;VALUE=DURATION:PT1H
X-Robots-Tag:noindex
X-PUBLISHED-TTL:PT1H
BEGIN:VTIMEZONE
TZID:America/Chicago
BEGIN:DAYLIGHT
TZOFFSETFROM:-0600
TZOFFSETTO:-0500
TZNAME:CDT
DTSTART:20240310T080000
END:DAYLIGHT
BEGIN:STANDARD
TZOFFSETFROM:-0500
TZOFFSETTO:-0600
TZNAME:CST
DTSTART:20241103T070000
END:STANDARD
BEGIN:DAYLIGHT
TZOFFSETFROM:-0600
TZOFFSETTO:-0500
TZNAME:CDT
DTSTART:20250309T080000
END:DAYLIGHT
BEGIN:STANDARD
TZOFFSETFROM:-0500
TZOFFSETTO:-0600
TZNAME:CST
DTSTART:20251102T070000
END:STANDARD
BEGIN:DAYLIGHT
TZOFFSETFROM:-0600
TZOFFSETTO:-0500
TZNAME:CDT
DTSTART:20260308T080000
END:DAYLIGHT
BEGIN:STANDARD
TZOFFSETFROM:-0500
TZOFFSETTO:-0600
TZNAME:CST
DTSTART:20261101T070000
END:STANDARD
END:VTIMEZONE
BEGIN:VEVENT
DTSTART;TZID=America/Chicago:20251119T090000
DTEND;TZID=America/Chicago:20251119T100000
DTSTAMP:20260425T150529
CREATED:20250625T153005Z
LAST-MODIFIED:20250625T153006Z
UID:10005588-1763542800-1763546400@immanuellutheranbrownton.org
SUMMARY:Bible Class
DESCRIPTION:
URL:https://immanuellutheranbrownton.org/event/bible-class-25/2025-11-19/
END:VEVENT
BEGIN:VEVENT
DTSTART;TZID=America/Chicago:20251119T133000
DTEND;TZID=America/Chicago:20251119T143000
DTSTAMP:20260425T150529
CREATED:20240816T145236Z
LAST-MODIFIED:20240816T145237Z
UID:10003999-1763559000-1763562600@immanuellutheranbrownton.org
SUMMARY:Afternoon Worship Service/Holy Communion
DESCRIPTION:
URL:https://immanuellutheranbrownton.org/event/afternoon-worship-service-holy-communion/2025-11-19/
END:VEVENT
BEGIN:VEVENT
DTSTART;TZID=America/Chicago:20251119T173000
DTEND;TZID=America/Chicago:20251119T180000
DTSTAMP:20260425T150529
CREATED:20251029T163214Z
LAST-MODIFIED:20251029T163215Z
UID:10006068-1763573400-1763575200@immanuellutheranbrownton.org
SUMMARY:Bell Choir Practice
DESCRIPTION:
URL:https://immanuellutheranbrownton.org/event/bell-choir-practice/2025-11-19/
END:VEVENT
BEGIN:VEVENT
DTSTART;TZID=America/Chicago:20251119T180000
DTEND;TZID=America/Chicago:20251119T190000
DTSTAMP:20260425T150529
CREATED:20250912T154239Z
LAST-MODIFIED:20250912T154241Z
UID:10006004-1763575200-1763578800@immanuellutheranbrownton.org
SUMMARY:Choir Practice
DESCRIPTION:
URL:https://immanuellutheranbrownton.org/event/choir-practice-3/2025-11-19/
END:VEVENT
BEGIN:VEVENT
DTSTART;TZID=America/Chicago:20251119T180000
DTEND;TZID=America/Chicago:20251119T191500
DTSTAMP:20260425T150529
CREATED:20250730T164951Z
LAST-MODIFIED:20250730T164952Z
UID:10005677-1763575200-1763579700@immanuellutheranbrownton.org
SUMMARY:Confirmation Class
DESCRIPTION:
URL:https://immanuellutheranbrownton.org/event/confirmation-class-16/2025-11-19/
END:VEVENT
END:VCALENDAR