BEGIN:VCALENDAR
VERSION:2.0
PRODID:-//Immanuel Lutheran Church - ECPv6.15.20//NONSGML v1.0//EN
CALSCALE:GREGORIAN
METHOD:PUBLISH
X-ORIGINAL-URL:https://immanuellutheranbrownton.org
X-WR-CALDESC:Events for Immanuel Lutheran Church
REFRESH-INTERVAL;VALUE=DURATION:PT1H
X-Robots-Tag:noindex
X-PUBLISHED-TTL:PT1H
BEGIN:VTIMEZONE
TZID:America/Chicago
BEGIN:DAYLIGHT
TZOFFSETFROM:-0600
TZOFFSETTO:-0500
TZNAME:CDT
DTSTART:20240310T080000
END:DAYLIGHT
BEGIN:STANDARD
TZOFFSETFROM:-0500
TZOFFSETTO:-0600
TZNAME:CST
DTSTART:20241103T070000
END:STANDARD
BEGIN:DAYLIGHT
TZOFFSETFROM:-0600
TZOFFSETTO:-0500
TZNAME:CDT
DTSTART:20250309T080000
END:DAYLIGHT
BEGIN:STANDARD
TZOFFSETFROM:-0500
TZOFFSETTO:-0600
TZNAME:CST
DTSTART:20251102T070000
END:STANDARD
BEGIN:DAYLIGHT
TZOFFSETFROM:-0600
TZOFFSETTO:-0500
TZNAME:CDT
DTSTART:20260308T080000
END:DAYLIGHT
BEGIN:STANDARD
TZOFFSETFROM:-0500
TZOFFSETTO:-0600
TZNAME:CST
DTSTART:20261101T070000
END:STANDARD
END:VTIMEZONE
BEGIN:VEVENT
DTSTART;TZID=America/Chicago:20251001T090000
DTEND;TZID=America/Chicago:20251001T100000
DTSTAMP:20260421T133801
CREATED:20250625T152712Z
LAST-MODIFIED:20250625T152714Z
UID:10005581-1759309200-1759312800@immanuellutheranbrownton.org
SUMMARY:Bible Class
DESCRIPTION:
URL:https://immanuellutheranbrownton.org/event/bible-class-24/2025-10-01/
END:VEVENT
BEGIN:VEVENT
DTSTART;TZID=America/Chicago:20251001T180000
DTEND;TZID=America/Chicago:20251001T191500
DTSTAMP:20260421T133801
CREATED:20250730T164641Z
LAST-MODIFIED:20250730T164643Z
UID:10005670-1759341600-1759346100@immanuellutheranbrownton.org
SUMMARY:Confirmation Class
DESCRIPTION:
URL:https://immanuellutheranbrownton.org/event/confirmation-class-8/
END:VEVENT
END:VCALENDAR